BEGIN:VCALENDAR
PRODID:NingEventWidget-v1
VERSION:2.0
METHOD:PUBLISH
BEGIN:VEVENT
UID:1791588:Event:164721
DTSTAMP:20260420T084549Z
SUMMARY:Women's Health Ultrasound
DESCRIPTION:The Women’s Health Ultrasound course is a two day compre
 hensive course covering advanced OB-GYN topics and fetal heart screeni
 ng. Attend both days for the most comprehensive hands-on Women’s hea
 lth ultrasound education experience available that incorporates compre
 hensive lectures, interactive case presentations, and extensive hands-
 on scanning, featuring a 3:1 ratio with live models.\n\nFor more infor
 mation visit https://community.radrounds.com/events/women-s-health-ult
 rasound
DTSTART:20160728T040000Z
DTEND:20160730T035900Z
CATEGORIES:ultrasound, cme, seminar
LOCATION:Gulfcoast Ultrasound Institute, Inc.
WEBSITE:https://www.gcus.com/courses/about.asp?course=941/Women%E2%80%
 99s-Health-Ultrasound-
URL:https://www.gcus.com/courses/about.asp?course=941/Women%E2%80%99s-
 Health-Ultrasound-
CONTACT:800-619-1900
ORGANIZER;CN="Casey Green":https://community.radrounds.com/profile/Jam
 esSalame
ATTACH;FMTTYPE="image/jpeg":
ATTENDEE;ROLE=REQ-PARTICIPANT;PARTSTAT=ACCEPTED;RSVP=TRUE;CN="Casey Gr
 een":https://community.radrounds.com/profile/JamesSalame
END:VEVENT
END:VCALENDAR
