BEGIN:VCALENDAR
PRODID:NingEventWidget-v1
VERSION:2.0
METHOD:PUBLISH
BEGIN:VEVENT
UID:1791588:Event:116063
DTSTAMP:20260423T154328Z
SUMMARY:What's Your Radiation Safety IQ?
DESCRIPTION:What's Your Radiation Safety IQ? Saturday, March 31, 2012 
 - Saturday, March 31, 2012DoubleTree Hotel Austin University Austin, T
 exas (TX), United StatesProvided by Advanced Health Education Center  
 CME Provider: Advanced Health Education Center 8502 Tybor DriveHouston
 , Texas (TX) 77074United States\nToll Free: (800) 239-1361Phone: (713)
  772-0157Fax: (713) 772-0155\n\nConference Center:DoubleTree Hotel Aus
 tin University 1617 IH-35 NorthAustin, Texas (TX) 78702United States\n
 Phone: (512) 479-4000\n Description:The rules and regulations for Radi
 ation Safety compliance are no laughing matter. Finally, we have a spe
 cial program that addresses the concerns of those who work in the clin
 ic or physician’s office environment. You will appreciate the extra 
 help in getting your program to meet the requirements of the state. Yo
 u will learn and receive help in getting your program up to speed and 
 handling the paperwork. You will revisit subjects that need refreshing
  and learn new and pertinent information relevant to your workplace. Y
 ou’ll get to sit down with an expert in your work area and get some 
 questions answered.\nCourse Topics• Purpose of Radiation Protection 
 Programs• Management’s Role in Radiation Safety• Policies and Pr
 ocedures• Training Programs• Personnel Monitoring• Rules of Radi
 ation Safety• Pregnant Workers• Quality Control• DocumentationCu
 rrent Topics and Trends.\nSelf Assessment Module (SAM): No\nInstructor
 s:David Trevino, MS, RT(R)(M), CNMT\nSpecialty Audience:Radiology\n\nF
 or more information visit https://community.radrounds.com/events/what-
 s-your-radiation-safety-iq
DTSTART:20120331T040000Z
DTEND:20120401T035900Z
CATEGORIES:radiology
LOCATION:DoubleTree Hotel Austin University
WEBSITE:http://doubletree1.hilton.com/en_US/dt/hotel/AUSIMDT-DoubleTre
 e-by-Hilton-Hotel-Austin-University-Area-Texas/index.do
URL:http://doubletree1.hilton.com/en_US/dt/hotel/AUSIMDT-DoubleTree-by
 -Hilton-Hotel-Austin-University-Area-Texas/index.do
CONTACT:(512) 479-4000
ORGANIZER:Advanced Health Education Center
ATTACH;FMTTYPE="image/jpeg":
ATTENDEE;ROLE=REQ-PARTICIPANT;PARTSTAT=ACCEPTED;RSVP=TRUE;CN="radRound
 s Radiology Events":https://community.radrounds.com/profile/radRoundsR
 adiologyEvents
END:VEVENT
END:VCALENDAR
