BEGIN:VCALENDAR
PRODID:NingEventWidget-v1
VERSION:2.0
METHOD:PUBLISH
BEGIN:VEVENT
UID:1791588:Event:172480
DTSTAMP:20260422T101855Z
SUMMARY:What is Next After Breast Cancer? Parts 1 & 2 (Live Webinar)
DESCRIPTION:Course Topics Part 1\n\nWhy Keep Medical Records?\nMyth Bu
 sters: Breast Cancer and All It’s Myths\nLong-Term Information and R
 ecommendations\nUnderstanding Your Potential Long-Term Side Effects of
  Treatment\nPost Treatment Options\n\nCourse Topics Part 2\n\nMortalit
 y Rates\nRecurrence\nAnxiety, Depression and Self-Image\nNutrition and
  Physical Activity\nCancer and Careers\n\n\nFor more information visit
  https://community.radrounds.com/events/what-is-next-after-breast-canc
 er-parts-1-2-live-webinar
DTSTART:20171012T220000Z
DTEND:20171012T234500Z
CATEGORIES:live, webinar
LOCATION:Advanced Health Education Center
WEBSITE:https://store.aheconline.com/index.php?route=product/product&p
 ath=59&product_id=3054
URL:https://store.aheconline.com/index.php?route=product/product&path=
 59&product_id=3054
CONTACT:800-239-1361
ORGANIZER;CN="Larry Carney":https://community.radrounds.com/profile/La
 rryCarney
ATTACH;FMTTYPE="image/jpeg":
ATTENDEE;ROLE=REQ-PARTICIPANT;PARTSTAT=ACCEPTED;RSVP=TRUE;CN="Larry Ca
 rney":https://community.radrounds.com/profile/LarryCarney
END:VEVENT
END:VCALENDAR
