BEGIN:VCALENDAR
PRODID:NingEventWidget-v1
VERSION:2.0
METHOD:PUBLISH
BEGIN:VEVENT
UID:1791588:Event:167539
DTSTAMP:20260420T202813Z
SUMMARY:What is Next After Breast Cancer? Part 1 & 2 [ 6:30pm CST]
DESCRIPTION:Course Topics\n\nWhy Keep Medical Records?\nMyth Busters: 
 Breast Cancer and All It’s Myths\nLong-Term Information and Recommen
 dations\nUnderstanding Your Potential Long-Term Side Effects of Treatm
 ent\nPost Treatment Options\nMortality Rates\nRecurrence\nAnxiety, Dep
 ression and Self-Image\nNutrition and Physical Activity\nCancer and Ca
 reers\n\nStart Time Based on Time Zone:\n\n7:30PM Eastern\n6:30PM Cent
 ral\n5:30PM Mountain\n4:30PM Pacific\n3:30PM Alaska\n2:30PM Hawaii\n\n
 \nFor more information visit https://community.radrounds.com/events/wh
 at-is-next-after-breast-cancer-part-1-2-6-30pm-cst
DTSTART:20160602T223000Z
DTEND:20160603T001500Z
CATEGORIES:webinar
LOCATION:Houston
WEBSITE:https://store.aheconline.com/index.php?route=product/product&p
 ath=59_167_191&product_id=2496
URL:https://store.aheconline.com/index.php?route=product/product&path=
 59_167_191&product_id=2496
CONTACT:1-800-239-1361
ORGANIZER;CN="Larry Carney":https://community.radrounds.com/profile/La
 rryCarney
ATTACH;FMTTYPE="image/jpeg":
ATTENDEE;ROLE=REQ-PARTICIPANT;PARTSTAT=ACCEPTED;RSVP=TRUE;CN="Larry Ca
 rney":https://community.radrounds.com/profile/LarryCarney
END:VEVENT
END:VCALENDAR
