BEGIN:VCALENDAR
PRODID:NingEventWidget-v1
VERSION:2.0
METHOD:PUBLISH
BEGIN:VEVENT
UID:1791588:Event:108735
DTSTAMP:20260419T130521Z
SUMMARY:WCIO 2012
DESCRIPTION:The World Conference on Interventional Oncology is a scien
 tific forum designed to establish, nurture and support Interventional 
 Oncology (IO), therapies that use imaging technology to diagnose and t
 reat localized cancers in ways that are precisely targeted and minimal
 ly or non-invasive.\nThe conference leverages a combination of state-o
 f-the-art lectures, panel discussions, invited papers, and selected ab
 stracts of basic, translational, and clinical research to promote mean
 ingful dialogue on available and emerging therapies in Radiology, Medi
 cal Oncology, Surgical Oncology, Interventional Oncology, Hepatology, 
 and Radiation Oncology.\n\n\nFor more information visit https://commun
 ity.radrounds.com/events/wcio-2012
DTSTART:20120614T120000Z
DTEND:20120618T000000Z
CATEGORIES:scientific, forum
LOCATION:Sheraton Chicago Hotel and Towers
WEBSITE:http://wcio2012.org
URL:http://wcio2012.org
CONTACT:+1 202-367-1164
ORGANIZER:WCIO
ATTACH;FMTTYPE="image/jpeg":
ATTENDEE;ROLE=REQ-PARTICIPANT;PARTSTAT=ACCEPTED;RSVP=TRUE;CN="A Winger
 ":https://community.radrounds.com/profile/AWinger
END:VEVENT
END:VCALENDAR
