BEGIN:VCALENDAR
PRODID:NingEventWidget-v1
VERSION:2.0
METHOD:PUBLISH
BEGIN:VEVENT
UID:1791588:Event:115825
DTSTAMP:20260424T213831Z
SUMMARY:Washington Neuroradiology Review
DESCRIPTION:Washington Neuroradiology Review Saturday, February 11, 20
 12 - Sunday, February 12, 2012Hyatt Regency Bethesda Bethesda, Marylan
 d (MD), United StatesProvided by Inova Health System  CME Provider: In
 ova Health System Catherine Tumelty3300 Gallows RoadIFH PCC-LL, CME of
 ficeFalls Church, Virginia (VA) 22042United States\nPhone: (703) 776-3
 959Fax: (703) 776-3961\n\nConference Center:Hyatt Regency Bethesda One
  Bethesda Metro CenterBethesda, Maryland (MD) 20814United States\nPhon
 e: (301) 657-1234\nDescription:This two-day course is designed for rad
 iologist, neurologists, neurosurgeons and pathologists as a review and
  update of a wide variety of topics relating to neuroradiology and neu
 roimaging.\nSelf Assessment Module (SAM): No\nInstructors:James G. Smi
 rniotopoulos, MDC. Douglas Phillips, MDAlice Boyd Smith, Lt Col, USAF,
  MCJohn Herbert Rees, M.D.\nSpecialty Audience:NeurologyRadiology\n\nF
 or more information visit https://community.radrounds.com/events/washi
 ngton-neuroradiology-review
DTSTART:20120211T050000Z
DTEND:20120213T045900Z
CATEGORIES:radiology
LOCATION:Hyatt Regency Bethesda
WEBSITE:http://www.bethesda.hyatt.com/hyatt/hotels/index.jsp
URL:http://www.bethesda.hyatt.com/hyatt/hotels/index.jsp
CONTACT:(301) 657-1234
ORGANIZER:Inova Health System
ATTACH;FMTTYPE="image/jpeg":
ATTENDEE;ROLE=REQ-PARTICIPANT;PARTSTAT=ACCEPTED;RSVP=TRUE;CN="radRound
 s Radiology Events":https://community.radrounds.com/profile/radRoundsR
 adiologyEvents
END:VEVENT
END:VCALENDAR
