BEGIN:VCALENDAR
PRODID:NingEventWidget-v1
VERSION:2.0
METHOD:PUBLISH
BEGIN:VEVENT
UID:1791588:Event:117496
DTSTAMP:20260419T161335Z
SUMMARY:Wake Forest School of Medicine Summer Radiology Review 2012
DESCRIPTION:The Department of Radiology regularly schedules continuing
  medical education activities throughout the year. These programs offe
 r a variety of learning opportunities for residents, fellows, faculty 
 and private radiologists.2012 MEETING CALENDAR\n2012 Summer MeetingWil
 d Dunes ResortIsle of Palms, South CarolinaJune 18 - 22, 2012\nRegiste
 r here for Wild DunesSummer Continuing Educational Activity\nThis cour
 se presents innovations in traditional disciplines with emphasis on ne
 wer imaging techniques. The meeting is held annually in June.General M
 inifellowships\nBoth informal and formal minifellowships can be schedu
 led throughout the year for radiologists who want either a general upd
 ate/review or a more intensive experience in a radiology subspecialty 
 for $300.00 per day or $1200.00 for a week. Programs can be tailored t
 o the individual radiologist's preferences in any of the following are
 as:Body CT/UltrasoundBreast ImagingChest RadiologyGastrointestinal Rad
 iologyPediatric RadiologyNeuroradiologyNuclear MedicineMR ImagingGener
 al Diagnostic Radiology\nThese courses are held at Wake Forest Baptist
  Medical Center and provide a variety of instructional approaches, inc
 luding:Daily film-reading sessions with the radiology facultyRadiology
  literature from the extensive resources in the Division of Radiologic
  Sciences' Learning CenterStudy films on film and CD-ROM from the depa
 rtmental collection and the ACR teaching filesContinuing Education Cre
 dits\nAll activities are sponsored under the auspices of the Division 
 of Continuing Education, Wake Forest School of Medicine, which arrange
 s for Category 1 continuing education credit whenever possible.\n\nFor
  more information visit https://community.radrounds.com/events/wake-fo
 rest-school-of-medicine-summer-radiology-review-2012
DTSTART:20120618T040000Z
DTEND:20120623T035900Z
CATEGORIES:radiology
LOCATION:Wild Dunes Resort
WEBSITE:http://www.regonline.com/WFUS12
URL:http://www.regonline.com/WFUS12
CONTACT:
ORGANIZER:Wake Forest School of Medicine
ATTACH;FMTTYPE="image/jpeg":
ATTENDEE;ROLE=REQ-PARTICIPANT;PARTSTAT=ACCEPTED;RSVP=TRUE;CN="Catherin
 e George":https://community.radrounds.com/profile/CatherineGeorge
ATTENDEE;ROLE=REQ-PARTICIPANT;PARTSTAT=ACCEPTED;RSVP=TRUE;CN="radRound
 s Radiology Events":https://community.radrounds.com/profile/radRoundsR
 adiologyEvents
END:VEVENT
END:VCALENDAR
