BEGIN:VCALENDAR
PRODID:NingEventWidget-v1
VERSION:2.0
METHOD:PUBLISH
BEGIN:VEVENT
UID:1791588:Event:72889
DTSTAMP:20260421T043801Z
SUMMARY:Virtual Colonoscopy Workshop
DESCRIPTION:Virtual Colonoscopy Workshop\n\nUCSF China Basin Research 
 Center\nCourse Director:\nJudy Yee, MD\nCredit Hours: 12.25\n\nHOTEL A
 CCOMMODATIONS\n\nUCSF is pleased to present our workshop on Virtual Co
 lonoscopy. This rapidly evolving technology will be explored in a prog
 ram with individualized, hands-on workstation training and didactic in
 struction by Dr. Judy Yee, a leader in this imaging modality.\n\nThe p
 rogram will be held in San Francisco and includes a Thursday afternoon
  workstation orientation, full-day on Friday and half-day on Saturday.
 \nBy the end of the course, the registrant will have reviewed at least
  50 proven virtual colonoscopy cases (ABR approved).\n\nEnrollment is 
 limited to 18 registrants.\n\nAbout the Course\nThis workshop will pre
 sent, to both academic and practicing radiologists, the fundamentals a
 nd latest techniques of non-invasive colon cancer screening.\n\nUpon c
 ompletion of this activity, participants should be able to discuss:\nâ
 €˘ Demonstrate a familiarity with other colon cancer screening methods
 \nâ€˘ Obtain optimal colonic distention and cleansing for a maximally 
 diagnostic virtual colonoscopy\nâ€˘ Perform, interpret and report a vi
 rtual colonoscopy exam in a time-efficient manner\n\nLecture Topics\n\
 nâ€˘ Colon Cancer Screening: Overview\nâ€˘ VC Examination and Prerequi
 sites\nâ€˘ VC Technique and Protocols\nâ€˘ VC Interpretation and Pitfa
 lls\nâ€˘ VC Accuracy\nâ€˘ VC Reporting and Reimbursement\nâ€˘ Future D
 irections That Will Impact Your Practice\nâ€˘ Hands-on Workstation Tra
 ining\n\nCOURSE FACULTY\n\nJudy Yee, MD\nCourse Director\nProfessor an
 d Vice-Chair of Radiology\nUCSF School of Medicine\nChief, Radiology S
 ervice\nVeterans Affairs Medical Center\n\nRizwan Aslam, MD\nAssistant
  Clinical Professor of Radiology\nUCSF School of Medicine\n\nHOTEL ACC
 OMMODATIONS\nSuggested hotels that are about 8 blocks or a 20 minute w
 alk down Third Street or The Embarcadero to the China Basin Imaging Ce
 nter. You may either walk or take a taxi cab.\n\nCourtyard by Mariott\
 n299 Second St\n(415) 947-0700 or (800) 321-2211\nhttp://www.courtyard
 sanfrancisco.com/\n\nFour Seasons Hotel\n757 Market St\n(415) 633-3000
 \nhttp://www.fourseasons.com/sanfrancisco/\n\nHotel Frank (formerly Th
 e Maxwell Hotel)\n386 Geary Street at Mason St\n(415) 986-2000 or (800
 ) 553-1900\nhttp://www.hotelfranksf.com/\n\nHotel Milano\n55 Fifth St\
 n(415) 543-8555\nhttp://www.hotelmilanosf.com/\n\nHotel Palomar (Kimpt
 on Hotel)\n12 Fourth St at Market St\n(415) 348-1111 or (866) 373-4941
 \nhttp://www.hotelpalomar-sf.com/index.html\n\nThe Hotel Vitale\n8 Mis
 sion Street at Embarcadero\n(415) 278-3700 or (888) 890-8688\nhttp://w
 ww.hotelvitale.com/\n\nThe Palace Hotel\n2 Montgomery Street at Market
 \n(415) 512-1111 or (800) 325-3589 or (888) 627-7196\nwww.sfpalace.com
 \n\nSan Francisco Marriott\n55 Fourth St\n(415) 896-1600\nhttp://www.m
 arriott.com/hotels/travel/sfodt%20/\n\nSt. Regis Hotel (about a 15 min
 . walk to workshop location)\n125 3rd Street at Mission St\n(415) 284-
 4000 or (877) 787-3447\nwww.StRegis.com/SanFrancisco\n\nThe W Hotel (a
 bout a 15 min. walk to workshop location)\n181 Third Street at Howard 
 St\n(415) 777-5300\nwww.whotels.com/sanfrancisco\n\nThe Westin San Fra
 ncisco (about a 15 min. walk to workshop location)\n50 Third Street at
  Market St\n(415) 974-6400 or (888) 627-8561\nhttp://www.westinsf.com/
 \n\nThe Westin St. Francis\n335 Powell Street at Geary Blvd\n(415) 397
 -7000 or (800) 937-8461\nwww.westinstfrancis.com\n\nFor more informati
 on visit https://community.radrounds.com/events/virtual-colonoscopy-wo
 rkshop-2
DTSTART:20110609T040000Z
DTEND:20110612T035900Z
CATEGORIES:workshop
LOCATION:UCSF China Basin Imaging Center
WEBSITE:http://www2.radiology.ucsf.edu/postgrad/calendar/courses?c=RAD
 11D10
URL:http://www2.radiology.ucsf.edu/postgrad/calendar/courses?c=RAD11D1
 0
CONTACT:
ORGANIZER:UCSF Department of Radiology
ATTACH;FMTTYPE="image/jpeg":
ATTENDEE;ROLE=REQ-PARTICIPANT;PARTSTAT=ACCEPTED;RSVP=TRUE;CN="radRound
 s Radiology Events":https://community.radrounds.com/profile/radRoundsR
 adiologyEvents
END:VEVENT
END:VCALENDAR
