BEGIN:VCALENDAR
PRODID:NingEventWidget-v1
VERSION:2.0
METHOD:PUBLISH
BEGIN:VEVENT
UID:1791588:Event:168122
DTSTAMP:20260420T085343Z
SUMMARY:Venous Ultrasound
DESCRIPTION:Course Topics\n\nOverview of the physical principles of ul
 trasound including Doppler and color flow\nComprehensive review of the
  ultrasound platform controls enabling you to optimize your system for
  even the most difficult patient\nVenous diagnostics including techniq
 ues for the detection of DVT and Venous reflux\nCase studies, pearls a
 nd pitfalls, and standardized reporting\nHands-on scan lab\n\n\nFor mo
 re information visit https://community.radrounds.com/events/venous-ult
 rasound-17
DTSTART:20160719T120000Z
DTEND:20160720T210000Z
CATEGORIES:live, event
LOCATION:Houston
WEBSITE:https://store.aheconline.com/index.php?route=product/product&p
 ath=59_83&product_id=2217
URL:https://store.aheconline.com/index.php?route=product/product&path=
 59_83&product_id=2217
CONTACT:18002391361
ORGANIZER;CN="Larry Carney":https://community.radrounds.com/profile/La
 rryCarney
ATTACH;FMTTYPE="image/jpeg":
ATTENDEE;ROLE=REQ-PARTICIPANT;PARTSTAT=ACCEPTED;RSVP=TRUE;CN="Larry Ca
 rney":https://community.radrounds.com/profile/LarryCarney
END:VEVENT
END:VCALENDAR
