BEGIN:VCALENDAR
PRODID:NingEventWidget-v1
VERSION:2.0
METHOD:PUBLISH
BEGIN:VEVENT
UID:1791588:Event:116337
DTSTAMP:20260423T155048Z
SUMMARY:Venous Reflux Testing Ultrasound
DESCRIPTION:Venous Reflux Testing Ultrasound Saturday, March 31, 2012 
 - Sunday, April 01, 2012Advanced Health Education Center Houston, Texa
 s (TX), United StatesProvided by Advanced Health Education Center  CME
  Provider: Advanced Health Education Center 8502 Tybor DriveHouston, T
 exas (TX) 77074United States\nToll Free: (800) 239-1361Phone: (713) 77
 2-0157Fax: (713) 772-0155\n\nConference Center:Advanced Health Educati
 on Center 8502 Tybor DriveHouston, Texas (TX) 77074United States\nPhon
 e: (800) 239-1361\n Description:The understanding of venous insufficie
 ncy physiology and its significance along with the ability to accurate
 ly diagnose it can open doors to new areas of employment and revenue. 
 Knowledge of current treatment methodologies and the limitations of ea
 ch are crucial to proper patient care. Using venous reflux testing mov
 es beyond traditional venous testing focused on the detection of DVT t
 o a preventive approach that provides your patients with a rapid and a
 ccurate diagnosis that improves patient outcomes. This is the opportun
 ity to “quan-tum leap” your practice to a new level of quality, se
 rvice and satisfaction.\nObjectives Upon completion of this program th
 e learner will be able to: • Identify the procedure appropriate to t
 he patient population. • Identify normal lower extremity anatomy and
  abnormal variants using real-time ultrasound techniques. • Identify
  venous reflux and grade its severity using Doppler ultrasound techniq
 ues. • Discuss appropriate treatment options based on anatomy and se
 verity of the venous disease.\nCourse Topics • Instrumentation and K
 nobology • Anatomy -- Normal vs Abnormal • Physiology -- Normal vs
  Abnormal • Testing Protocols • Current methodologies for treatmen
 t -- Laser -- Radio frequency -- Sclerotherapy -- SEPS -- Phlebectomy 
 • Hands-on scanning with volunteers\nTarget Audience Physicians who 
 desire entry-level training in venous reflux testing. Sonographers or 
 other health professionals learning l venous reflux testing.\nCME Cred
 its “The Advanced Health Education Center is accredited by the Accre
 ditation Council for Continuing Medical Education to provide continuin
 g medical education for physicians.” “The Advanced Health Educatio
 n Center designates this educational activity for a maximum of 16 hour
 s AMA PRA Category I™. Physician should claim credit commensurate wi
 th the extent of their participation in the activity.”\nSelf Assessm
 ent Module (SAM): No\nInstructors:Terry Zwakenberg, BS, RRT, RDCS, RVT
 \nSpecialty Audience:Radiology\n\nFor more information visit https://c
 ommunity.radrounds.com/events/venous-reflux-testing-ultrasound
DTSTART:20120331T040000Z
DTEND:20120402T035900Z
CATEGORIES:radiology
LOCATION:Advanced Health Education Center
WEBSITE:http://aheconline.com/
URL:http://aheconline.com/
CONTACT:(800) 239-1361
ORGANIZER:Advanced Health Education Center
ATTACH;FMTTYPE="image/jpeg":
ATTENDEE;ROLE=REQ-PARTICIPANT;PARTSTAT=ACCEPTED;RSVP=TRUE;CN="radRound
 s Radiology Events":https://community.radrounds.com/profile/radRoundsR
 adiologyEvents
END:VEVENT
END:VCALENDAR
