BEGIN:VCALENDAR
PRODID:NingEventWidget-v1
VERSION:2.0
METHOD:PUBLISH
BEGIN:VEVENT
UID:1791588:Event:124275
DTSTAMP:20260422T163502Z
SUMMARY:Venous Reflux Testing Ultrasound
DESCRIPTION:The understanding of venous insufficiency physiology and i
 ts significance along with the ability to accurately diagnose it can o
 pen doors to new areas of employment and revenue.  Knowledge of curre
 nt treatment methodologies and the limitations of each are crucial to 
 proper patient care.  Using venous reflux testing moves beyond tradit
 ional venous testing focused on the detection of DVT to a preventive a
 pproach that provides your patients with a rapid and accurate diagnosi
 s that improves patient outcomes. This is the opportunity to “quan-t
 um leap” your practice to a new level of quality, service and satisf
 action.\n\nFor more information visit https://community.radrounds.com/
 events/venous-reflux-testing-ultrasound-1
DTSTART:20120507T220000Z
DTEND:20120507T230000Z
CATEGORIES:ce, course
LOCATION:Advanced Health Education Center
WEBSITE:http://store.aheconline.com/DisplayDetail.aspx?pid=6945
URL:http://store.aheconline.com/DisplayDetail.aspx?pid=6945
CONTACT:800-239-1361
ORGANIZER:Advanced Health Education Center
ATTACH;FMTTYPE="image/jpeg":
ATTENDEE;ROLE=REQ-PARTICIPANT;PARTSTAT=ACCEPTED;RSVP=TRUE;CN="Larry Ca
 rney":https://community.radrounds.com/profile/LarryCarney
END:VEVENT
END:VCALENDAR
