BEGIN:VCALENDAR
PRODID:NingEventWidget-v1
VERSION:2.0
METHOD:PUBLISH
BEGIN:VEVENT
UID:1791588:Event:123296
DTSTAMP:20260421T063124Z
SUMMARY:Venipuncture and Pharmacology for Contrast Media Procedures
DESCRIPTION:Venipuncture is allowed in most states with the documented
  training. This course will provide the techniques for administration,
  the pharmacology of dose units, the importance of documentation and t
 he response to allergic reactions. You will not want to miss this impo
 rtant opportunity to enhance your skills. Course includes both lecture
  and laboratory training with IV training arms.\n\nFor more informatio
 n visit https://community.radrounds.com/events/venipuncture-and-pharma
 cology-for-contrast-media-procedures-2
DTSTART:20120922T120000Z
DTEND:20120922T201500Z
CATEGORIES:ce, course
LOCATION:Holiday Inn LAX Airport
WEBSITE:http://store.aheconline.com/DisplayDetail.aspx?pid=7349
URL:http://store.aheconline.com/DisplayDetail.aspx?pid=7349
CONTACT:800-239-1361
ORGANIZER:Advanced Health Education Center
ATTACH;FMTTYPE="image/jpeg":
ATTENDEE;ROLE=REQ-PARTICIPANT;PARTSTAT=ACCEPTED;RSVP=TRUE;CN="Larry Ca
 rney":https://community.radrounds.com/profile/LarryCarney
END:VEVENT
END:VCALENDAR
