BEGIN:VCALENDAR
PRODID:NingEventWidget-v1
VERSION:2.0
METHOD:PUBLISH
BEGIN:VEVENT
UID:1791588:Event:185435
DTSTAMP:20260422T144455Z
SUMMARY:Vascular Ultrasound Registry Review
DESCRIPTION:Vascular Ultrasound Registry Review Live Training Course p
 rovides a comprehensive review for successful certification ARDMS exam
  completion. The Vascular Ultrasound Registry Review Course is taught 
 by leading registry preparation experts in the ultrasound profession. 
 This course includes interactive lectures, case studies, and mock regi
 stry exams using an interactive Audience Response System. All particip
 ants receive an extra 5 days unlimited access to the online Vascular R
 egistry Review. With the highest exam pass rate in the industry why go
  anywhere else?\n\nFor more information visit https://community.radrou
 nds.com/events/vascular-ultrasound-registry-review
DTSTART:20190415T120000Z
DTEND:20190416T210000Z
CATEGORIES:live, cme, seminar
LOCATION:Gulfcoast Ultrasound Institute
WEBSITE:https://www.gcus.com/
URL:https://www.gcus.com/
CONTACT:727-363-4500
ORGANIZER:Gulfcoast Ultrasound Institute, Inc
ATTACH;FMTTYPE="image/jpeg":https://storage.ning.com/topology/rest/1.0
 /file/get/308394795?profile=original
ATTENDEE;ROLE=REQ-PARTICIPANT;PARTSTAT=ACCEPTED;RSVP=TRUE;CN="Casey Gr
 een":https://community.radrounds.com/profile/JamesSalame
END:VEVENT
END:VCALENDAR
