BEGIN:VCALENDAR
PRODID:NingEventWidget-v1
VERSION:2.0
METHOD:PUBLISH
BEGIN:VEVENT
UID:1791588:Event:123515
DTSTAMP:20260421T224115Z
SUMMARY:Vascular Ultrasound Interpretation
DESCRIPTION:Whether you’re a busy physician who needs to sharpen you
 r interpretation skills or your trying to document formal training for
  Vascular Lab Accreditation  this is the course for you.  The course
  will equip you with the tools and techniques that help you achieve gr
 eater confidence and accuracy in your interpretation skills in vascula
 r ultrasound.  It was designed to maximize your time away by focusing
  on the normal versus abnormal vascular scans in a small group setting
  that will include lecture, case study presentations and interpretatio
 n sessions.  The course topics will include the factors that help you
  optimize the Doppler examination, review of the artifacts that can af
 fect diagnostic accuracy, characterize and correlate formation, and sp
 ectral Doppler and color flow imaging analysis. \n\nFor more informat
 ion visit https://community.radrounds.com/events/vascular-ultrasound-i
 nterpretation-1
DTSTART:20120428T220000Z
DTEND:20120428T230000Z
CATEGORIES:ce, course
LOCATION:Advanced Health Education Center
WEBSITE:http://store.aheconline.com/DisplayDetail.aspx?pid=6939
URL:http://store.aheconline.com/DisplayDetail.aspx?pid=6939
CONTACT:800-239-1361
ORGANIZER:Advanced Health Education Center
ATTACH;FMTTYPE="image/jpeg":
ATTENDEE;ROLE=REQ-PARTICIPANT;PARTSTAT=ACCEPTED;RSVP=TRUE;CN="Larry Ca
 rney":https://community.radrounds.com/profile/LarryCarney
END:VEVENT
END:VCALENDAR
