BEGIN:VCALENDAR
PRODID:NingEventWidget-v1
VERSION:2.0
METHOD:PUBLISH
BEGIN:VEVENT
UID:1791588:Event:158394
DTSTAMP:20260422T180211Z
SUMMARY:Vascular Ultrasound
DESCRIPTION:Vascular ultrasound has progressed over the years to becom
 e much more than a screening tool. From its early beginnings of grainy
  black and white two dimensional images, to the addition of Doppler an
 d color flow, it has become the modality of choice for early detection
  of peripheral arterial, cerebrovascular, and venous disease. For the 
 detection of DVT and venous reflux, duplex testing is now the gold sta
 ndard other modalities are compared to. Accurate diagnostic testing of
  the vascular system requires a comprehensive understanding of anatomy
  and hemodynamics as well as the various pathological conditions that 
 can present. Multiple variables such as cardiac output, dehydration, a
 nd infection can all have an impact on the vascular system. This semin
 ar provides an overview of physics and instrumentation, anatomy and he
 modynamics, and diagnostic criteria suitable for anyone from an experi
 enced sonographer to the beginner. For the physician wanting a more th
 orough understanding of the capabilities and potential of the vascular
  lab, along with interpretative criteria, our extensive library of cas
 e studies will prove invaluable. Our scan lab and state of the art equ
 ipment, along with our low student instructor ratios allow you plenty 
 of time to perfect your protocol, and acquire the scanning experience 
 necessary to perform diagnostic vascular exams.\nBreakdown of Days:\n\
 nDay 1 – 2: Carotid Duplex Ultrasound\nDay 3 – 4: Peripheral Arter
 ial Ultrasound\nDay 5 – 6: Venous Ultrasound\nDay 7: Abdominal Doppl
 er\n\n*For more information, visit the individual course page. Each se
 ction of this course can be taken individually.\nTarget Audience Physi
 cians who desire entry level training with vascular ultrasound, and so
 nographers or other health care professionals learning vascular ultras
 ound or cross training.  CME Credit\n\n“The Advanced Health Educatio
 n Center is accredited by the Accreditation Council for Continuing Med
 ical Education to provide continuing medical education for physicians.
 ”\n“The Advanced Health Education Center designates this education
 al activity for a maximum of 56 hours AMA PRA Category I™. Physician
  should claim credit commensurate with the extent of their participati
 on in the activity.”\n“The Society of Diagnostic Medical Sonograph
 ers allows 30 hours CE Credit.”\n\nFaculty: Terry J. Zwakenberg, BS,
  RVT, RDCS\nDates/Location: All in Houston, Texas\n\nFebruary 10 – 1
 6\nMarch 31 – April 6\nJune 23 – 29\nAugust 18 – 24\nOctober 20 
 – 26      \n\nHours: 8am – 5pm\nFee: $3,893\n\nFor more info
 rmation visit https://community.radrounds.com/events/vascular-ultrasou
 nd-819
DTSTART:20151019T040000Z
DTEND:20151026T035900Z
CATEGORIES:seminar
LOCATION:AHEC
WEBSITE:https://store.aheconline.com/index.php?route=product/product&f
 ilter_name=VASCULAR%20ULTRASOUND&product_id=1574
URL:https://store.aheconline.com/index.php?route=product/product&filte
 r_name=VASCULAR%20ULTRASOUND&product_id=1574
CONTACT:713-772-0157
ORGANIZER;CN="Larry Carney":https://community.radrounds.com/profile/La
 rryCarney
ATTACH;FMTTYPE="image/jpeg":
ATTENDEE;ROLE=REQ-PARTICIPANT;PARTSTAT=ACCEPTED;RSVP=TRUE;CN="Larry Ca
 rney":https://community.radrounds.com/profile/LarryCarney
END:VEVENT
END:VCALENDAR
