BEGIN:VCALENDAR
PRODID:NingEventWidget-v1
VERSION:2.0
METHOD:PUBLISH
BEGIN:VEVENT
UID:1791588:Event:167901
DTSTAMP:20260421T130620Z
SUMMARY:Vascular Ultrasound
DESCRIPTION:Course Topics\n\nOverview of the physical principles of ul
 trasound including Doppler and color flow\nComprehensive review of the
  ultrasound platform controls enabling you to optimize your system for
  even the most difficult patient\nCarotid duplex testing including: an
 atomy, hemodynamics, diagnostic criteria, case studies, pearls and pit
 falls, as well as standardized reporting\nArterial duplex testing\nAna
 tomy, hemodynamics, and diagnostic criteria \nVenous diagnostics incl
 uding techniques for the detection of DVT and Venous reflux\nCase stud
 ies, pearls and pitfalls, and standardized reporting\nHands-on scan la
 b\n\n\nFor more information visit https://community.radrounds.com/even
 ts/vascular-ultrasound-251
DTSTART:20160620T120000Z
DTEND:20160625T210000Z
CATEGORIES:live, event
LOCATION:Houston
WEBSITE:https://store.aheconline.com/index.php?route=product/product&p
 ath=59&product_id=2173
URL:https://store.aheconline.com/index.php?route=product/product&path=
 59&product_id=2173
CONTACT:1-800-239-1361
ORGANIZER;CN="Larry Carney":https://community.radrounds.com/profile/La
 rryCarney
ATTACH;FMTTYPE="image/jpeg":
ATTENDEE;ROLE=REQ-PARTICIPANT;PARTSTAT=ACCEPTED;RSVP=TRUE;CN="Larry Ca
 rney":https://community.radrounds.com/profile/LarryCarney
END:VEVENT
END:VCALENDAR
