BEGIN:VCALENDAR
PRODID:NingEventWidget-v1
VERSION:2.0
METHOD:PUBLISH
BEGIN:VEVENT
UID:1791588:Event:164732
DTSTAMP:20260420T212144Z
SUMMARY:Vascular Scanning Skills Workshop
DESCRIPTION:The cardiac and vascular ultrasound scanning skills worksh
 op is taught by leading ultrasound experts. This ultrasound training p
 rogram is designed to reinforce and improve scanning skills for adult 
 echocardiography, carotid, and peripheral vascular ultrasound applicat
 ions. Choose your specialty of choice and scan live models and inanima
 te phantoms for the perfect opportunity to improve scanning proficienc
 y. No lectures, just walk-in and scan, scan, scan!Prerequisites: Part
 icipants must have attended a previous GCUS live or online adult echoc
 ardiography, carotid duplex/color ultrasound or peripheral vascular ul
 trasound course to attend a scan only workshop. Participants must sele
 ct the desired track (cardiac –focused or comprehensive, carotid and
 /or peripheral vascular) at time of registration.\n\nFor more informat
 ion visit https://community.radrounds.com/events/vascular-scanning-ski
 lls-workshop
DTSTART:20160924T040000Z
DTEND:20160925T035900Z
CATEGORIES:ultrasound, cme, seminar
LOCATION:Gulfcoast Ultrasound Institute, Inc.
WEBSITE:https://www.gcus.com/courses/about.asp?course=1008/Vascular-an
 d-Echo-Scanning-Skills-Workshop
URL:https://www.gcus.com/courses/about.asp?course=1008/Vascular-and-Ec
 ho-Scanning-Skills-Workshop
CONTACT:800-619-1900
ORGANIZER;CN="Casey Green":https://community.radrounds.com/profile/Jam
 esSalame
ATTACH;FMTTYPE="image/jpeg":
ATTENDEE;ROLE=REQ-PARTICIPANT;PARTSTAT=ACCEPTED;RSVP=TRUE;CN="Casey Gr
 een":https://community.radrounds.com/profile/JamesSalame
END:VEVENT
END:VCALENDAR
