BEGIN:VCALENDAR
PRODID:NingEventWidget-v1
VERSION:2.0
METHOD:PUBLISH
BEGIN:VEVENT
UID:1791588:Event:116349
DTSTAMP:20260423T124216Z
SUMMARY:Vascular Lab 2012: Advanced Topics for Vascular Specialists an
 d Other Healthcare Professionals
DESCRIPTION:Vascular Lab 2012: Advanced Topics for Vascular Specialist
 s and Other Healthcare Professionals Saturday, April 14, 2012 - Sunday
 , April 15, 2012Hilton Sacramento Arden West Sacramento, California (C
 A), United StatesProvided by University of California, Davis  CME Prov
 ider: University of California, Davis Vickie Hidalgo, MarketingOffice 
 of Continuing Medical Education 3560 Business Drive, Suite 130Sacramen
 to, California (CA) 95820-2161United States\nToll Free: (866) CME4EDUP
 hone: (916) 734-5390Fax: (916) 734-0776\n\nConference Center:Hilton Sa
 cramento Arden West 2200 Harvard StreetSacramento, California (CA) 958
 15-3306United States\nPhone: (916) 922-4700Fax: (916) 922-8418\nDescri
 ption:Please visit the UC Davis website for more information.\nSelf As
 sessment Module (SAM): No\nInstructors:David L. Dawson, MD, RPVIProfes
 sorUC Davis Vascular CenterDivision of Vascular and Endovascular Surge
 ryDepartment of SurgeryUniversity of California, Davis Health System\n
 David J. Del Pizzo, MHA, RVTTechnical Director and SupervisorUC Davis 
 Vascular LaboratoryDepartment of RadiologyUniversity of California, Da
 vis Health System\nSpecialty Audience:Family MedicineInternal Medicine
 RadiologySurgery\n\nFor more information visit https://community.radro
 unds.com/events/vascular-lab-2012-advanced-topics-for-vascular-special
 ists-and
DTSTART:20120414T040000Z
DTEND:20120416T035900Z
CATEGORIES:radiology
LOCATION:Hilton Sacramento Arden West
WEBSITE:http://www1.hilton.com/en_US/hi/hotel/SMFHIHF-Hilton-Sacrament
 o-Arden-West-California/index.do
URL:http://www1.hilton.com/en_US/hi/hotel/SMFHIHF-Hilton-Sacramento-Ar
 den-West-California/index.do
CONTACT:(916) 922-4700
ORGANIZER:University of California, Davis
ATTACH;FMTTYPE="image/jpeg":
ATTENDEE;ROLE=REQ-PARTICIPANT;PARTSTAT=ACCEPTED;RSVP=TRUE;CN="radRound
 s Radiology Events":https://community.radrounds.com/profile/radRoundsR
 adiologyEvents
END:VEVENT
END:VCALENDAR
