BEGIN:VCALENDAR
PRODID:NingEventWidget-v1
VERSION:2.0
METHOD:PUBLISH
BEGIN:VEVENT
UID:1791588:Event:185349
DTSTAMP:20260419T124357Z
SUMMARY:VASCULAR INTERPRETATION AND RPVI REGISTRY REVIEW
DESCRIPTION:Vascular Interpretation and RPVI Registry Review Live Trai
 ning Courses are taught by leading vascular ultrasound experts that in
 cludes interactive case studies & mock exams with a 99% RPVI Board Exa
 m Pass Rate. The Vascular Interpretation and RPVI Registry Review Cour
 se is designed for medical professionals to improve their vascular int
 erpretation skills and/or prepare to take the Registered Physician in 
 Vascular Interpretation (RPVI) board examination. This vascular ultras
 ound program includes lectures based on APCA content outlines, interac
 tive case presentations, and mock examinations using an audience respo
 nse system to improve diagnostic confidence and competence. All partic
 ipants have 5 Day Access to Online Registry Review Course.\n\nFor more
  information visit https://community.radrounds.com/events/vascular-int
 erpretation-and-rpvi-registry-review
DTSTART:20190207T123000Z
DTEND:20190208T221500Z
CATEGORIES:live, cme, seminar
LOCATION:Gulfcoast Ultrasound Institute
WEBSITE:https://www.gcus.com/
URL:https://www.gcus.com/
CONTACT:727-363-4500
ORGANIZER:Gulfcoast Ultrasound Institute, Inc
ATTACH;FMTTYPE="image/jpeg":https://storage.ning.com/topology/rest/1.0
 /file/get/308226159?profile=original
ATTENDEE;ROLE=REQ-PARTICIPANT;PARTSTAT=ACCEPTED;RSVP=TRUE;CN="Casey Gr
 een":https://community.radrounds.com/profile/JamesSalame
END:VEVENT
END:VCALENDAR
