BEGIN:VCALENDAR
PRODID:NingEventWidget-v1
VERSION:2.0
METHOD:PUBLISH
BEGIN:VEVENT
UID:1791588:Event:167827
DTSTAMP:20260420T164722Z
SUMMARY:Utilizing Mammography Tools to Save Lives
DESCRIPTION:Course Topics\n\nUpdate on Tomosynthesis\nNeedle Localizat
 ion and Stereotactic Breast Biopsy with Tomosynthesis Guidance\nWhat H
 appens to Patients Who Don't Follow Treatment Regimens?\nManagement of
  the Axilla Nodal Basins and Beyond\nRisk Assessment Models\nHiding in
  Plain Site: Architectural Distortions and Breast Asymmetries\nNew Pro
 mising Breast Modalities\n\n\nFor more information visit https://commu
 nity.radrounds.com/events/utilizing-mammography-tools-to-save-lives
DTSTART:20160909T120000Z
DTEND:20160909T201500Z
CATEGORIES:live, event
LOCATION:Anchorage
WEBSITE:https://store.aheconline.com/index.php?route=product/product&p
 ath=59&product_id=2412
URL:https://store.aheconline.com/index.php?route=product/product&path=
 59&product_id=2412
CONTACT:18002391361
ORGANIZER;CN="Larry Carney":https://community.radrounds.com/profile/La
 rryCarney
ATTACH;FMTTYPE="image/jpeg":
ATTENDEE;ROLE=REQ-PARTICIPANT;PARTSTAT=ACCEPTED;RSVP=TRUE;CN="Larry Ca
 rney":https://community.radrounds.com/profile/LarryCarney
END:VEVENT
END:VCALENDAR
