BEGIN:VCALENDAR
PRODID:NingEventWidget-v1
VERSION:2.0
METHOD:PUBLISH
BEGIN:VEVENT
UID:1791588:Event:158327
DTSTAMP:20260421T143427Z
SUMMARY:University of Chicago 20th Annual Radiology Review 2015
DESCRIPTION:We invite you to join us at this exciting, comprehensive r
 eview and update of the practical aspects of all major subspecialties 
 of Diagnostic Radiology. Our experts are chosen for their excellence a
 s teachers and they will share their clinical expertise and insight to
  help you improve your performance and practice. They will guide you t
 o appropriate use of conventional imaging modalities such as plain fil
 m radiography, computed tomography, magnetic resonance imaging, ultras
 ound, nuclear medicine and angiography; and when appropriate, they wil
 l emphasize newer important imaging modalities including PET/CT, diffu
 sion weighted MR, cardiac CT, and virtual colonoscopy. Current and fut
 ure trends in radiology informatics will also be explored.\nMajor emph
 asis will be placed on the practical and clinical aspects of Diagnosti
 c Radiology. Diagnostic tips, techniques and pitfalls will be stressed
  and differential diagnoses of common radiological findings will be co
 vered. Unknown case reviews will be held after each morning and aftern
 oon lecture session--allowing participants to test themselves in a rel
 axed atmosphere. These popular sessions will stress practical clinical
  problems and differential diagnoses. Audience Response System (ARS) t
 echnology will be used throughout the course and many Self-Assessment 
 Credits (SAMs) will be offered.\nWe hope that you will join us for the
  20th iteration of this fantastic meeting and look forward to welcomin
 g you to exciting Chicago!\n\nFor more information visit https://commu
 nity.radrounds.com/events/university-of-chicago-20th-annual-radiology-
 review-2015
DTSTART:20150309T040000Z
DTEND:20150314T035900Z
CATEGORIES:meeting, "(live)"
LOCATION:Hyatt Chicago Magnificent Mile
WEBSITE:https://www.radiology.uchicago.edu/page/radiology-review-cours
 e
URL:https://www.radiology.uchicago.edu/page/radiology-review-course
CONTACT:(773) 702-1056
ORGANIZER:Daniel Appelbaum, MD
ATTACH;FMTTYPE="image/jpeg":
ATTENDEE;ROLE=REQ-PARTICIPANT;PARTSTAT=ACCEPTED;RSVP=TRUE;CN="Daniel A
 ppelbaum":https://community.radrounds.com/profile/DanielAppelbaum
END:VEVENT
END:VCALENDAR
