BEGIN:VCALENDAR
PRODID:NingEventWidget-v1
VERSION:2.0
METHOD:PUBLISH
BEGIN:VEVENT
UID:1791588:Event:158500
DTSTAMP:20260420T171726Z
SUMMARY:Understanding the Echo Report for Primary Care
DESCRIPTION:The interpretation of an echocardiogram has become more th
 an just evaluating wall motion abnormalities to calculate an ejection 
 fraction. Current equipment provides the clinician with a wealth of in
 formation unimagined several years ago. Interpreters find it increasin
 gly difficult to make sense of the reams of information provided by th
 e cardiac sonographer. This course will provide you with real world ca
 se studies to sharpen your interpretive skills. You will see both norm
 al, and a wide variety of pathology, along with the appropriate echoca
 rdiographic views and data necessary to make the correct interpretatio
 n. You will also be presented with typical diagnostic challenges such 
 as poor imaging windows and limited data to help you develop technique
 s to get the most useful information possible from the exam. Physician
 s applying for credentials, accreditation, or reaccreditation will fin
 d this a valuable means to quickly and efficiently acquire documentati
 on for additional case studies and CME.\nCourse Topics\n\n2-D measurem
 ents\nM-Mode analysis\nColor flow Doppler\nPulsed and Continuous Doppl
 er measurements and analysis\nContinuity equation\nSimpson’s method 
 of Disks\nTissue Doppler\nDiastology\nSystolic dysfunction\nContrast m
 edia\nAnalysis of valvular regurgitation\nValvular stenosis and Valve 
 area\nPulmonary artery pressure measurements\nCurrent ASE requirements
  for a complete Transthoracic Echocardiogram\n\nCME Credits\n\n“The 
 Advanced Health Education Center is accredited by the Accreditation Co
 uncil for Continuing Medical Education to provide continuing medical e
 ducation for physicians.”\n“The Advanced Health Education Center d
 esignates this educational activity for a maximum of 8 hours AMA PRA C
 ategory I™. Physician should claim credit commensurate with the exte
 nt of their participation in the activity.”\n\nFaculty: Terry J Zwa
 kenberg, BS, RRT, RDCS, RVT\nDates/Location: All in Houston, Texas\n\n
 February 8\nMay 18\nSeptember 13\n\nHours: 8am – 5pm\nFee: $635\n\n
 For more information visit https://community.radrounds.com/events/unde
 rstanding-the-echo-report-for-primary-care
DTSTART:20150912T120000Z
DTEND:20150912T210000Z
CATEGORIES:advanced, health, education, center
LOCATION:Advanced Health Education Center
WEBSITE:https://store.aheconline.com/index.php?route=product/product&f
 ilter_name=UNDERSTANDING%20THE%20ECHO%20REPORT%20FOR%20PRIMARY%20CARE&
 page=2&product_id=1570
URL:https://store.aheconline.com/index.php?route=product/product&filte
 r_name=UNDERSTANDING%20THE%20ECHO%20REPORT%20FOR%20PRIMARY%20CARE&page
 =2&product_id=1570
CONTACT:713-772-0157
ORGANIZER;CN="Larry Carney":https://community.radrounds.com/profile/La
 rryCarney
ATTACH;FMTTYPE="image/jpeg":
ATTENDEE;ROLE=REQ-PARTICIPANT;PARTSTAT=ACCEPTED;RSVP=TRUE;CN="Larry Ca
 rney":https://community.radrounds.com/profile/LarryCarney
END:VEVENT
END:VCALENDAR
