BEGIN:VCALENDAR
PRODID:NingEventWidget-v1
VERSION:2.0
METHOD:PUBLISH
BEGIN:VEVENT
UID:1791588:Event:158654
DTSTAMP:20260421T012844Z
SUMMARY:Understanding Peripheral Vascular Testing
DESCRIPTION:Whether you’re a busy physician who needs to sharpen you
 r interpretation skills or you’re trying to document formal training
  for Vascular Lab Accreditation this is the course for you. The course
  will equip you with the tools and techniques that help you achieve gr
 eater confidence and accuracy in your interpretation skills in periphe
 ral vascular ultrasound. It was designed to maximize your time away by
  focusing on the normal versus abnormal vascular scans in a small grou
 p setting that will include lecture, case study presentations and inte
 rpretation sessions. The course topics will include the factors that h
 elp you optimize the Doppler examination, review of the artifacts that
  can affect diagnostic accuracy, characterize and correlate formation,
  and spectral Doppler and color flow imaging analysis.\nObjectives\nAt
  the conclusion of this course the participant will be able to:\n\nIde
 ntify normal peripheral vascular anatomy on a duplex scan\nIdentify no
 rmal waveform characteristics on a duplex scan\nIdentify normal charac
 teristics of an extremity physiologic exam\nComplete the interpretatio
 n and structure a report for a peripheral vascular exam\n\nCourse Topi
 cs\n\nPeripheral Vascular Ultrasound Interpretation\nScanning protocol
 s\nScan Artifacts\nNormal Venous and Arterial anatomy\nAcute and Chron
 ic DVT, Venous Insufficiency\nPeripheral Arterial Disease\nPhysiologic
  Testing\nDuplex examinations\nCase studies and practice interpretatio
 n session\n\nTarget Audience Any Physician who interprets peripheral v
 ascular physiologic and duplex/color examinations. Experienced Sonogra
 phers or other health care professionals who are involved with vascula
 r accreditation may benefit from attendance in this course.\nCME Credi
 ts\n\n“The Advanced Health Education Center is accredited by the Acc
 reditation Council for Continuing Medical Education to provide continu
 ing medical education for physicians.”\n“The Advanced Health Educa
 tion Center designates this educational activity for a maximum of 8 ho
 urs AMA PRA Category I™. Physicians should claim credit commensurate
  with the extent of their participation in the activity.”\n\nFaculty
 : Terry J. Zwakenberg, BS, RRT, RDCS, RVT\nDates/Location: All in Hou
 ston, Texas\n\nMarch 1\nJuly 12\nDecember 13\n\nHours: 8am – 5pm\nFe
 e: $635\n\nFor more information visit https://community.radrounds.com/
 events/understanding-peripheral-vascular-testing
DTSTART:20151205T050000Z
DTEND:20151206T045900Z
CATEGORIES:seminar
LOCATION:AHEC
WEBSITE:https://store.aheconline.com/index.php?route=product/product&f
 ilter_name=UNDERSTANDING%20PERIPHERAL%20VASCULAR%20TESTING&product_id=
 1568
URL:https://store.aheconline.com/index.php?route=product/product&filte
 r_name=UNDERSTANDING%20PERIPHERAL%20VASCULAR%20TESTING&product_id=1568
CONTACT:713-772-0157
ORGANIZER;CN="Larry Carney":https://community.radrounds.com/profile/La
 rryCarney
ATTACH;FMTTYPE="image/jpeg":
ATTENDEE;ROLE=REQ-PARTICIPANT;PARTSTAT=ACCEPTED;RSVP=TRUE;CN="Larry Ca
 rney":https://community.radrounds.com/profile/LarryCarney
END:VEVENT
END:VCALENDAR
