BEGIN:VCALENDAR
PRODID:NingEventWidget-v1
VERSION:2.0
METHOD:PUBLISH
BEGIN:VEVENT
UID:1791588:Event:186823
DTSTAMP:20260420T105826Z
SUMMARY:Uncharted Emergency Preparedness: Are You Ready to \"Bug Out\"
 ?
DESCRIPTION:Course Topics:\n\nRadiologic Events\nEnvironmental Risks\n
 Disaster Preparedness\n\nCourse Objectives:\nAt the conclusion of this
  course, the participant should be able to:\n\nDiscuss emergency plans
  for an electronic blackout\nUnderstand the difference in planning for
  a localized catastrophic event, and a national or worldwide event\nLi
 st at least 10 logical items to put in your own bugout bag\n\n\nFor mo
 re information visit https://community.radrounds.com/events/uncharted-
 emergency-preparedness-are-you-ready-to-bug-out
DTSTART:20190215T140000Z
DTEND:20190215T160000Z
CATEGORIES:live, webinar
LOCATION:Advanced Health Education Center
WEBSITE:https://store.aheconline.com/
URL:https://store.aheconline.com/
CONTACT:1(800) 239-1361
ORGANIZER:AHEC
ATTACH;FMTTYPE="image/jpeg":
ATTENDEE;ROLE=REQ-PARTICIPANT;PARTSTAT=ACCEPTED;RSVP=TRUE;CN="Larry Ca
 rney":https://community.radrounds.com/profile/LarryCarney
END:VEVENT
END:VCALENDAR
