BEGIN:VCALENDAR
PRODID:NingEventWidget-v1
VERSION:2.0
METHOD:PUBLISH
BEGIN:VEVENT
UID:1791588:Event:183573
DTSTAMP:20260423T234423Z
SUMMARY:Uncharted Emergency Preparedness: Are You Ready to \"Bug Out?\
 " (Live Webinar)
DESCRIPTION:Course Topics:\n\nRadiologic Events\nEnvironmental Risks\n
 Disaster Preparedness\n\n\nFor more information visit https://communit
 y.radrounds.com/events/uncharted-emergency-preparedness-are-you-ready-
 to-bug-out-live-2
DTSTART:20180830T170000Z
DTEND:20180830T190000Z
CATEGORIES:live, webinar
LOCATION:Advanced Health Education Center
WEBSITE:https://store.aheconline.com/
URL:https://store.aheconline.com/
CONTACT:800-239-1361
ORGANIZER;CN="Larry Carney":https://community.radrounds.com/profile/La
 rryCarney
ATTACH;FMTTYPE="image/jpeg":
ATTENDEE;ROLE=REQ-PARTICIPANT;PARTSTAT=ACCEPTED;RSVP=TRUE;CN="Larry Ca
 rney":https://community.radrounds.com/profile/LarryCarney
END:VEVENT
END:VCALENDAR
