BEGIN:VCALENDAR
PRODID:NingEventWidget-v1
VERSION:2.0
METHOD:PUBLISH
BEGIN:VEVENT
UID:1791588:Event:187000
DTSTAMP:20260419T124413Z
SUMMARY:Uncharted Emergency Preparedness: Are You Ready to \"Bug Out\"
 ?
DESCRIPTION:Course Topics:\n\nRadiologic Events\nEnvironmental Risks\n
 Disaster Preparedness\n\nCourse Objectives:\nAt the conclusion of this
  course, the participant should be able to:\n\nDiscuss emergency plans
  for an electronic blackout\nUnderstand the difference in planning for
  a localized catastrophic event, and a national or worldwide event\nLi
 st at least 10 logical items to put in your own bugout bag\n\n\nFor mo
 re information visit https://community.radrounds.com/events/uncharted-
 emergency-preparedness-are-you-ready-to-bug-out-1
DTSTART:20190207T230000Z
DTEND:20190208T010000Z
CATEGORIES:live, webinar
LOCATION:Advanced Health Education Center
WEBSITE:https://store.aheconline.com/index.php?route=product/product&a
 mp;filter_name=Current%20hot%20topics%20in%20imaging&amp;filter_catego
 ry_id=191&amp;sort=pd.name&amp;order=ASC&amp;page=3&amp;product_id=473
 6
URL:https://store.aheconline.com/index.php?route=product/product&amp;f
 ilter_name=Current%20hot%20topics%20in%20imaging&amp;filter_category_i
 d=191&amp;sort=pd.name&amp;order=ASC&amp;page=3&amp;product_id=4736
CONTACT:1(800) 239-1361
ORGANIZER:AHEC
ATTACH;FMTTYPE="image/jpeg":
ATTENDEE;ROLE=REQ-PARTICIPANT;PARTSTAT=ACCEPTED;RSVP=TRUE;CN="Larry Ca
 rney":https://community.radrounds.com/profile/LarryCarney
END:VEVENT
END:VCALENDAR
