BEGIN:VCALENDAR
PRODID:NingEventWidget-v1
VERSION:2.0
METHOD:PUBLISH
BEGIN:VEVENT
UID:1791588:Event:115725
DTSTAMP:20260424T231016Z
SUMMARY:Ultrasound Physics Review
DESCRIPTION:Ultrasound Physics Review Saturday, February 04, 2012 - Sa
 turday, February 04, 2012Advanced Health Education Center Houston, Tex
 as (TX), United StatesProvided by Advanced Health Education Center  CM
 E Provider: Advanced Health Education Center 8502 Tybor DriveHouston, 
 Texas (TX) 77074United States\nToll Free: (800) 239-1361Phone: (713) 7
 72-0157Fax: (713) 772-0155\n\nConference Center:Advanced Health Educat
 ion Center 8502 Tybor DriveHouston, Texas (TX) 77074United States\nPho
 ne: (800) 239-1361\nDescription:If you are a technologist or sonograph
 er who has set your goal on mastering the physics portion of the board
  exams, this course is designed for you! In order to become registered
  by the ARDMS (American Registry for Diagnostic Medical Sonography) to
  operate medical ultrasound devices, individuals will need to take the
  Ultrasound Physics and Instrumentation (UPI) Test. This exam was deve
 loped by the ARDMS. A similar set of specified questions are asked on 
 the registry examinations given by Cardiovascular Credentialing Intern
 ational, and the ARRT for certification in sonography. Our experienced
  faculty will guide you through a review of the important areas of phy
 sics and instrumentation that is in the specifications for these exami
 nations. You will have the opportunity throughout the day to ask quest
 ions, and relieve those pre-registry jitters with a thorough dose of q
 uality information.\nCourseTopics\n1.Elementary Principles\n2.Propagat
 ion of Ultrasound through Tissues\n3.Ultrasound Transducers\n4.Pulse E
 cho Instruments\n5.Principles of Pulse Echo Imaging\n6.Images, Storage
 , and Display\n7.Hemodynamic, Doppler, Color Flow, and Color Power Ima
 ging\n8.Artifacts\n9.Quality Assurance of Ultrasound Instruments\n10.B
 ioeffects and Safety\nSelf Assessment Module (SAM): No\nInstructors:Te
 rry Zwakenberg, BS, RRT, RDCS, RVT\nSpecialty Audience:Radiology\n\nFo
 r more information visit https://community.radrounds.com/events/ultras
 ound-physics-review
DTSTART:20120204T050000Z
DTEND:20120205T045900Z
CATEGORIES:radiology
LOCATION:Advanced Health Education Center
WEBSITE:http://aheconline.com/
URL:http://aheconline.com/
CONTACT:(800) 239-1361
ORGANIZER:Advanced Health Education Center
ATTACH;FMTTYPE="image/jpeg":
ATTENDEE;ROLE=REQ-PARTICIPANT;PARTSTAT=ACCEPTED;RSVP=TRUE;CN="radRound
 s Radiology Events":https://community.radrounds.com/profile/radRoundsR
 adiologyEvents
END:VEVENT
END:VCALENDAR
