BEGIN:VCALENDAR
PRODID:NingEventWidget-v1
VERSION:2.0
METHOD:PUBLISH
BEGIN:VEVENT
UID:1791588:Event:116087
DTSTAMP:20260423T114415Z
SUMMARY:Ultrasound in the New Millennium 2012
DESCRIPTION:Ultrasound in the New Millennium 2012 Friday, April 20, 20
 12 - Saturday, April 21, 2012The University of Texas MD Anderson Cance
 r Center Houston, Texas (TX), United StatesProvided by The University 
 of Texas MD Anderson Cancer Center  CME Provider: The University of Te
 xas MD Anderson Cancer Center Joan Schauer, Manager, CME1155 Pressler 
 - CPB 8.3608Houston, Texas (TX) 77030United States\nToll Free: 866-849
 -5866Phone: 713-792-2223Fax: 713-794-1724\n\nConference Center:The Uni
 versity of Texas MD Anderson Cancer Center 1155 Pressler - CPBHouston,
  Texas (TX) 77030United States\nToll Free: 866-849-5866Phone: 713-792-
 2223\n Description:Please visit the MD Anderson website (link above) f
 or additional information.\nSelf Assessment Module (SAM): No\nInstruct
 ors:D. Bedi, MD\nSpecialty Audience:Emergency MedicineFamily MedicineI
 nternal MedicineRadiology\n\nFor more information visit https://commun
 ity.radrounds.com/events/ultrasound-in-the-new-millennium-2012
DTSTART:20120420T040000Z
DTEND:20120422T035900Z
CATEGORIES:radiology
LOCATION:The University of Texas MD Anderson Cancer Center
WEBSITE:http://www.mdanderson.org/conferences
URL:http://www.mdanderson.org/conferences
CONTACT:713-792-2223
ORGANIZER:The University of Texas MD Anderson Cancer Center
ATTACH;FMTTYPE="image/jpeg":
ATTENDEE;ROLE=REQ-PARTICIPANT;PARTSTAT=ACCEPTED;RSVP=TRUE;CN="radRound
 s Radiology Events":https://community.radrounds.com/profile/radRoundsR
 adiologyEvents
END:VEVENT
END:VCALENDAR
