BEGIN:VCALENDAR
PRODID:NingEventWidget-v1
VERSION:2.0
METHOD:PUBLISH
BEGIN:VEVENT
UID:1791588:Event:123406
DTSTAMP:20260422T044550Z
SUMMARY:Ultrasound Guided Venous/PICC Line Access
DESCRIPTION:Central venous catheterization and PICC line insertions ca
 n be difficult and can cause serious complications. Central venous can
 nulation (CVC) is an important procedure in the practice of emergency 
 and critical care medicine. A PICC line is, by definition and per its 
 acronym, a peripherally inserted central catheter, and ultrasound is r
 apidly becoming a tool of choice for identifying the venous anatomy ne
 eded for success. With the increasing ability of bedside ultrasound th
 e technology has proven to reduce error and improve patient care. The 
 Agency for Healthcare Research & Quality, the Institute of Medicine an
 d the National Institute for Health & Clinical Excellence have all end
 orsed ultrasound-guided central venous cannulation (UGCVC) as a recomm
 ended practice. Given the importance of CVC it is paramount that physi
 cians become proficient with UGCVC. Assessing and managing superficial
  fluid collections using ultrasound-guided access is rapidly becoming 
 the standard of care in many medical institutions. Basic ultrasound ex
 pertise is invaluable, but there is a whole array of ultrasound proced
 ures that can be performed that will increase your effectiveness and d
 iagnostic accuracy. Go beyond the basics and get the skills you need t
 o expand your effective use of ultrasound in your clinical environment
 ! Participants in this course will benefit from demonstration,  hands
 -on scanning with phantoms where the ultrasound faculty will teach you
  the essential skills and techniques to perform exams that make a diff
 erence in patient outcomes by demonstrating cardiac problems, deep vei
 n thrombosis, or need for an intervention that can de done under ultra
 sound guidance.\n\nFor more information visit https://community.radrou
 nds.com/events/ultrasound-guided-venous-picc-line-access
DTSTART:20120714T120000Z
DTEND:20120714T210000Z
CATEGORIES:ce, course
LOCATION:Advanced Health Education Center
WEBSITE:http://store.aheconline.com/DisplayDetail.aspx?pid=7286
URL:http://store.aheconline.com/DisplayDetail.aspx?pid=7286
CONTACT:800-239-1361
ORGANIZER:Advanced Health Education Center
ATTACH;FMTTYPE="image/jpeg":
ATTENDEE;ROLE=REQ-PARTICIPANT;PARTSTAT=ACCEPTED;RSVP=TRUE;CN="Larry Ca
 rney":https://community.radrounds.com/profile/LarryCarney
END:VEVENT
END:VCALENDAR
