BEGIN:VCALENDAR
PRODID:NingEventWidget-v1
VERSION:2.0
METHOD:PUBLISH
BEGIN:VEVENT
UID:1791588:Event:170060
DTSTAMP:20260423T104735Z
SUMMARY:Ultrasound Guided Vascular Access
DESCRIPTION:The Ultrasound Guided Vascular Access Course includes comp
 rehensive lectures and extensive hands-on scanning for central and per
 ipheral line placement. This ultrasound training course incorporates c
 omprehensive lectures, interactive case presentations, and extensive h
 ands-on scanning, featuring a 3:1 ratio with live models and inanimate
  phantoms.\n\nObjectives\n\nDemonstrate the participant’s knowledge 
 to better perform ultrasound-guided vascular access procedures.\nDemon
 strate proper transducer manipulation and system optimization to produ
 ce diagnostic images.\nList the advantages and disadvantages of the 
 In-Plane” and “Out-of-Plane” and the “Direct” vs. “Indire
 ct” ultrasound-guided vascular access techniques.\nDifferentiate ven
 ous vs. arterial anatomy by ultrasound.\nIdentify ultrasound imaging c
 haracteristics of vessels and contiguous anatomy to determine the opti
 mal approach for vascular access.\nDemonstrate ultrasound imaging char
 acteristics of vascular pathology that would indicate a vessel is not 
 suitable for vascular access.\nDemonstrate the use of ultrasound guida
 nce for Central Line vascular access.\nDemonstrate the use of ultrasou
 nd guidance for Peripheral Line vascular access.\nDemonstrate competen
 ce to incorporate protocols, scan techniques, and interpretation crite
 ria to improve diagnostic/treatment accuracy.\n\n \n\nTopics\n\nFunda
 mentals of UG Vascular Access\n“Direct” vs. “Indirect” Techniq
 ues\n“In-plane” vs. “Out-of-plane” Techniques\nUltrasound Guid
 ed Central Line Placement\nPrinciples of Vessel Differentiation\nInter
 nal Jugular & Axillary/Subclavian Approach\nFemoral, Antecubital Vein 
 Access\nAdditional Access Sites & Comments on the Pediatric Patient\nC
 linical Case Review\n\n\nFor more information visit https://community.
 radrounds.com/events/ultrasound-guided-vascular-access-778
DTSTART:20170825T040000Z
DTEND:20170826T035900Z
CATEGORIES:cme, conference
LOCATION:Gulfcoast Ultrasound Institute
WEBSITE:https://www.gcus.com/courses/about.asp?course=1083/Ultrasound-
 Guided-Vascular-Access
URL:https://www.gcus.com/courses/about.asp?course=1083/Ultrasound-Guid
 ed-Vascular-Access
CONTACT:17273634500
ORGANIZER:GCUS
ATTACH;FMTTYPE="image/jpeg":http://storage.ning.com/topology/rest/1.0/
 file/get/1044771789?profile=original
ATTENDEE;ROLE=REQ-PARTICIPANT;PARTSTAT=ACCEPTED;RSVP=TRUE;CN="Casey Gr
 een":https://community.radrounds.com/profile/JamesSalame
END:VEVENT
END:VCALENDAR
