BEGIN:VCALENDAR
PRODID:NingEventWidget-v1
VERSION:2.0
METHOD:PUBLISH
BEGIN:VEVENT
UID:1791588:Event:196647
DTSTAMP:20260421T044404Z
SUMMARY:Ultrasound Guided Vascular Access
DESCRIPTION:Ultrasound Guided Vascular Access Live Training Course pro
 vides participants a strong foundation to perform central and peripher
 al line techniques. This comprehensive course is taught by leading eme
 rgency medicine ultrasound experts that specialize in ultrasound guida
 nce and incorporates comprehensive lectures, interactive case presenta
 tions, and includes hands-on scanning featuring a 3:1 participant to i
 nstructor ratio with both live models (anatomy) and inanimate phantoms
  (interventional techniques). This course is specifically designed for
  physicians, sonographers and other medical professionals who need ult
 rasound-guided vascular access (UGVA) training. This course is offered
  as a one (1) day course at our facility in Downtown St. Petersburg, F
 L. GCUS offers this Ultrasound-Guided Vascular Access training as a st
 and alone one (1) day course, or as part of a two (2) day program comb
 ined with EITHER Ultrasound-Guided Regional Anesthesia or Ultrasound-G
 uided Nerve Blocks for Emergency Medicine Applications. In the two (2)
  day program, participants will learn central and peripheral line plac
 ement as well as upper and lower extremity nerve blocks.\n\nFor more i
 nformation visit https://community.radrounds.com/events/ultrasound-gui
 ded-vascular-access-615
DTSTART:20200803T040000Z
DTEND:20200804T035900Z
CATEGORIES:most, comprehensive, hands-on, ugva, course, available
LOCATION:St. Petersburg
WEBSITE:https://www.gcus.com/ultrasound/live-course/ultrasound-guided-
 vascular-access-2020-2
URL:https://www.gcus.com/ultrasound/live-course/ultrasound-guided-vasc
 ular-access-2020-2
CONTACT:7273634500
ORGANIZER;CN="Casey Green":https://community.radrounds.com/profile/Jam
 esSalame
ATTACH;FMTTYPE="image/jpeg":
ATTENDEE;ROLE=REQ-PARTICIPANT;PARTSTAT=ACCEPTED;RSVP=TRUE;CN="Casey Gr
 een":https://community.radrounds.com/profile/JamesSalame
END:VEVENT
END:VCALENDAR
