BEGIN:VCALENDAR
PRODID:NingEventWidget-v1
VERSION:2.0
METHOD:PUBLISH
BEGIN:VEVENT
UID:1791588:Event:177175
DTSTAMP:20260425T163116Z
SUMMARY:Ultrasound-Guided Vascular Access
DESCRIPTION:The Ultrasound Guided Vascular Access Course includes comp
 rehensive lectures and extensive hands-on scanning for central and per
 ipheral line placement. This ultrasound-guided vascular access hands-o
 n course/program incorporates comprehensive lectures, interactive case
  presentations, and extensive hands-on scanning, featuring a 3:1 ratio
  with live models and inanimate phantoms.\n\nFor more information visi
 t https://community.radrounds.com/events/ultrasound-guided-vascular-ac
 cess-329
DTSTART:20180803T114500Z
DTEND:20180803T203000Z
CATEGORIES:live, seminar
LOCATION:Gulfcoast Ultrasound Institute
WEBSITE:https://www.gcus.com/
URL:https://www.gcus.com/
CONTACT:7273634500
ORGANIZER:Gulfcoast Ultrasound Institute, Inc
ATTACH;FMTTYPE="image/jpeg":http://storage.ning.com/topology/rest/1.0/
 file/get/1044772895?profile=original
ATTENDEE;ROLE=REQ-PARTICIPANT;PARTSTAT=ACCEPTED;RSVP=TRUE;CN="Casey Gr
 een":https://community.radrounds.com/profile/JamesSalame
END:VEVENT
END:VCALENDAR
