BEGIN:VCALENDAR
PRODID:NingEventWidget-v1
VERSION:2.0
METHOD:PUBLISH
BEGIN:VEVENT
UID:1791588:Event:168132
DTSTAMP:20260421T052307Z
SUMMARY:Ultrasound Guided Vascular Access
DESCRIPTION:Course Topics\n\nVenous orientation and pathology to demon
 strate DVT\nUpper and lower extremities, to include the jugular, subcl
 avian, femoral, saphenous, basilic and superficial veins of the upper 
 extremity\nProper way to compress veins\nUse color Doppler to evaluate
  areas of suspected DVT prior to inserting a line\nCentral and periphe
 ral line placement\nPICC lines will be introduced as important and tim
 e saving ways of managing critically ill patients\nHands-on practice w
 ill be offered for all topics using phantoms\n\n\nFor more information
  visit https://community.radrounds.com/events/ultrasound-guided-vascul
 ar-access-27
DTSTART:20160819T120000Z
DTEND:20160819T181500Z
CATEGORIES:live, event
LOCATION:Houston
WEBSITE:https://store.aheconline.com/index.php?route=product/product&p
 ath=59&product_id=2227
URL:https://store.aheconline.com/index.php?route=product/product&path=
 59&product_id=2227
CONTACT:18002391361
ORGANIZER;CN="Larry Carney":https://community.radrounds.com/profile/La
 rryCarney
ATTACH;FMTTYPE="image/jpeg":
ATTENDEE;ROLE=REQ-PARTICIPANT;PARTSTAT=ACCEPTED;RSVP=TRUE;CN="Larry Ca
 rney":https://community.radrounds.com/profile/LarryCarney
END:VEVENT
END:VCALENDAR
