BEGIN:VCALENDAR
PRODID:NingEventWidget-v1
VERSION:2.0
METHOD:PUBLISH
BEGIN:VEVENT
UID:1791588:Event:167543
DTSTAMP:20260421T105139Z
SUMMARY:Ultrasound Guided Vascular Access
DESCRIPTION:Learning Objectives\nAt the completion of this course, the
  learner will be able to:\n\nDefine deep vein thrombosis and list fact
 ors that would put a patient at risk for DVT.\nExplain how to place a 
 central line under ultrasound guidance\n\nCourse Topics\n\nVenous orie
 ntation and pathology to demonstrate DVT\nUpper and lower extremities,
  to include the jugular, subclavian, femoral, saphenous, basilic and s
 uperficial veins of the upper extremity\nProper way to compress veins\
 nUse color Doppler to evaluate areas of suspected DVT prior to inserti
 ng a line\nCentral and peripheral line placement\nPICC lines will be i
 ntroduced as important and time saving ways of managing critically ill
  patients\nHands-on practice will be offered for all topics using phan
 toms\n\n\nFor more information visit https://community.radrounds.com/e
 vents/ultrasound-guided-vascular-access-26
DTSTART:20160612T120000Z
DTEND:20160612T181500Z
CATEGORIES:live, event
LOCATION:Houston
WEBSITE:https://store.aheconline.com/index.php?route=product/product&p
 ath=59&product_id=2211
URL:https://store.aheconline.com/index.php?route=product/product&path=
 59&product_id=2211
CONTACT:1-800-239-1361
ORGANIZER;CN="Larry Carney":https://community.radrounds.com/profile/La
 rryCarney
ATTACH;FMTTYPE="image/jpeg":
ATTENDEE;ROLE=REQ-PARTICIPANT;PARTSTAT=ACCEPTED;RSVP=TRUE;CN="Larry Ca
 rney":https://community.radrounds.com/profile/LarryCarney
END:VEVENT
END:VCALENDAR
