BEGIN:VCALENDAR
PRODID:NingEventWidget-v1
VERSION:2.0
METHOD:PUBLISH
BEGIN:VEVENT
UID:1791588:Event:164915
DTSTAMP:20260420T202443Z
SUMMARY:Ultrasound-Guided Vascular Access
DESCRIPTION:The Ultrasound Guided Vascular Access Course includes comp
 rehensive lectures and extensive hands-on scanning for central and per
 ipheral line placement. This ultrasound training course incorporates c
 omprehensive lectures, interactive case presentations, and extensive h
 ands-on scanning, featuring a 3:1 ratio with live models and inanimate
  phantoms.\n\nFor more information visit https://community.radrounds.c
 om/events/ultrasound-guided-vascular-access-18
DTSTART:20160829T040000Z
DTEND:20160830T035900Z
CATEGORIES:ultrasound, cme, seminar
LOCATION:Gulfcoast Ultrasound Institute, Inc.
WEBSITE:https://www.gcus.com/courses/about.asp?course=947/Ultrasound-G
 uided-Vascular-Access
URL:https://www.gcus.com/courses/about.asp?course=947/Ultrasound-Guide
 d-Vascular-Access
CONTACT:800-619-1900
ORGANIZER;CN="Casey Green":https://community.radrounds.com/profile/Jam
 esSalame
ATTACH;FMTTYPE="image/jpeg":
ATTENDEE;ROLE=REQ-PARTICIPANT;PARTSTAT=ACCEPTED;RSVP=TRUE;CN="Casey Gr
 een":https://community.radrounds.com/profile/JamesSalame
END:VEVENT
END:VCALENDAR
