BEGIN:VCALENDAR
PRODID:NingEventWidget-v1
VERSION:2.0
METHOD:PUBLISH
BEGIN:VEVENT
UID:1791588:Event:160677
DTSTAMP:20260420T081234Z
SUMMARY:Ultrasound-Guided Vascular Access
DESCRIPTION:The Ultrasound Guided Vascular Access hands-on training pr
 ogram includes comprehensive lectures and extensive hands-on scanning 
 for central and peripheral line placement featuring live models and in
 animate phantoms. This hands-on ultrasound-guided vascular access cou
 rse is planned in accordance with the Agency for Healthcare Research &
  Quality (AHRQ), ACEP, and WINFOCUS guidelines and is designed for med
 ical professionals who perform central or peripheral line placement. T
 he ultrasound-guided vascular access training combines a comprehensive
  review of ultrasound fundamentals, guidance techniques, ultrasound ve
 ssel differentiation and extensive 3:1 hands-on training featuring liv
 e models plus, inanimate phantoms for a realistic training experience.
 \n\nFor more information visit https://community.radrounds.com/events/
 ultrasound-guided-vascular-access-16
DTSTART:20150824T040000Z
DTEND:20150825T035900Z
CATEGORIES:ultrasound, cme, seminar
LOCATION:Gulfcoast Ultrasound Institute, Inc.
WEBSITE:https://www.gcus.com/courses/about.asp?course=891/Hands-On-Ult
 rasound-Guided-Vascular-Access-Training-Seminar
URL:https://www.gcus.com/courses/about.asp?course=891/Hands-On-Ultraso
 und-Guided-Vascular-Access-Training-Seminar
CONTACT:800.619.1900
ORGANIZER;CN="Casey Green":https://community.radrounds.com/profile/Jam
 esSalame
ATTACH;FMTTYPE="image/jpeg":
ATTENDEE;ROLE=REQ-PARTICIPANT;PARTSTAT=ACCEPTED;RSVP=TRUE;CN="Casey Gr
 een":https://community.radrounds.com/profile/JamesSalame
END:VEVENT
END:VCALENDAR
