BEGIN:VCALENDAR
PRODID:NingEventWidget-v1
VERSION:2.0
METHOD:PUBLISH
BEGIN:VEVENT
UID:1791588:Event:185099
DTSTAMP:20260424T015209Z
SUMMARY:Ultrasound Guided Regional Anesthesia
DESCRIPTION:Ultrasound Guided Regional Anesthesia Live Training Course
  is designed for medical professionals seeking to integrate ultrasound
 -guided regional anesthesia techniques for surgery, pain management, o
 r procedural applications such as fracture reduction into their clinic
 al practice. These courses are taught by leading anesthesiologists and
  emergency medicine ultrasound experts that incorporates comprehensive
  lectures and interactive case presentations that features a 3:1 facul
 ty to participant hands-on scan ratio with both live models (anatomy) 
 and inanimate phantoms (interventional techniques). This course is spe
 cifically designed for physicians, sonographers and other medical prof
 essionals who need ultrasound guided regional anesthesia (UGRA) traini
 ng in a surgical and pain management setting. GCUS offers one (1) day 
 ultrasound guided regional anesthesia courses at our facility in St. P
 etersburg, FL. GCUS offers ultrasound guided regional anesthesia train
 ing as a stand alone one (1) day course, or as part of a two (2) day p
 rogram with ultrasound guided vascular access. In the two (2) day prog
 ram, participants will learn central and peripheral line placement as 
 well as upper and lower extremity nerve blocks and miscellaneous other
  new blocks.\n\nFor more information visit https://community.radrounds
 .com/events/ultrasound-guided-regional-anesthesia-7
DTSTART:20190405T113000Z
DTEND:20190405T210000Z
CATEGORIES:live, cme, seminar
LOCATION:Gulfcoast Ultrasound Institute
WEBSITE:https://www.gcus.com/
URL:https://www.gcus.com/
CONTACT:727-363-4500
ORGANIZER:Gulfcoast Ultrasound Institute, Inc
ATTACH;FMTTYPE="image/jpeg":https://storage.ning.com/topology/rest/1.0
 /file/get/308341458?profile=original
ATTENDEE;ROLE=REQ-PARTICIPANT;PARTSTAT=ACCEPTED;RSVP=TRUE;CN="Casey Gr
 een":https://community.radrounds.com/profile/JamesSalame
END:VEVENT
END:VCALENDAR
