BEGIN:VCALENDAR
PRODID:NingEventWidget-v1
VERSION:2.0
METHOD:PUBLISH
BEGIN:VEVENT
UID:1791588:Event:170064
DTSTAMP:20260423T090914Z
SUMMARY:Ultrasound-Guided Regional Anesthesia
DESCRIPTION:The Ultrasound Guided Regional Anesthesia Course is design
 ed for medical professionals seeking to integrate ultrasound-guided re
 gional anesthesia techniques for surgery, pain management, or procedur
 al applications such as fracture reduction. This ultrasound training c
 ourse incorporates comprehensive lectures, interactive case presentati
 ons, and extensive hands-on scanning featuring a 3:1 ratio with live m
 odels and inanimate phantoms.\n\nObjectives\n\nIncrease the participan
 ts’ knowledge and competence to perform Ultrasound-Guided Regional A
 nesthesia procedures.\nDemonstrate proper transducer manipulation and 
 system optimization to produce diagnostic images.\nList the advantages
  of using ultrasound-guided nerve block techniques.\nIdentify and dist
 inguish the topographic and cross-sectional brachial plexus anatomy.\n
 Demonstrate imaging techniques for performing ultrasound-guided upper 
 extremities regional anesthesia nerve blocks.\nDemonstrate imaging tec
 hniques for performing ultrasound-guided lower extremities anesthesia 
 nerve blocks on live models.\nIncrease confidence to incorporate proto
 cols, scan techniques, and interpretation criteria to integrate the sk
 ills learned into clinical practice.\n\n \n\nTopics\n\nImaging Fundam
 entals (Pre Course Webinar)\nIndications & Applications for US-Guided 
 Regional Anesthesia\nUpper Extremity Nerve Blocks:\nInterscalene\nSupr
 aclavicular\nInfraclavicular\nAxillary\nTruncal Blocks:\nPECS I & II (
 Serratus Plane Block)\nSubCostal TAP (Transversus Abdominis Plane)\nCl
 assical TAP\nQuadratus Lumborum (QL) Block\nLower Extremity Nerve Bloc
 ks:\nFemoral Nerve Block\nFascia Iliaca Block\nSaphenous/ Adductor Can
 al Block\nSciatic (Popliteal & Subgluteal) Block\nAnkle Block\nRegiona
 l Anesthesia for Emergency Medicine Applications\n\n\nFor more informa
 tion visit https://community.radrounds.com/events/ultrasound-guided-re
 gional-anesthesia-6
DTSTART:20170826T040000Z
DTEND:20170827T035900Z
CATEGORIES:cme, conference
LOCATION:Gulfcoast Ultrasound Institute
WEBSITE:https://www.gcus.com/courses/about.asp?course=1101/Ultrasound-
 Guided-Regional-Anesthesia
URL:https://www.gcus.com/courses/about.asp?course=1101/Ultrasound-Guid
 ed-Regional-Anesthesia
CONTACT:17273634500
ORGANIZER:GCUS
ATTACH;FMTTYPE="image/jpeg":http://storage.ning.com/topology/rest/1.0/
 file/get/1044771436?profile=original
ATTENDEE;ROLE=REQ-PARTICIPANT;PARTSTAT=ACCEPTED;RSVP=TRUE;CN="Casey Gr
 een":https://community.radrounds.com/profile/JamesSalame
END:VEVENT
END:VCALENDAR
