BEGIN:VCALENDAR
PRODID:NingEventWidget-v1
VERSION:2.0
METHOD:PUBLISH
BEGIN:VEVENT
UID:1791588:Event:164917
DTSTAMP:20260420T184110Z
SUMMARY:Ultrasound Guided Regional Anesthesia
DESCRIPTION:The Ultrasound Guided Regional Anesthesia Course is design
 ed for medical professionals seeking to integrate ultrasound-guided re
 gional anesthesia techniques for surgery, pain management, or procedur
 al applications such as fracture reduction. This ultrasound training c
 ourse incorporates comprehensive lectures, interactive case presentati
 ons, and extensive hands-on scanning, featuring a 3:1 ratio with live 
 models and inanimate phantoms.\n\nFor more information visit https://c
 ommunity.radrounds.com/events/ultrasound-guided-regional-anesthesia-5
DTSTART:20160830T040000Z
DTEND:20160831T035900Z
CATEGORIES:ultrasound, cme, seminar
LOCATION:Gulfcoast Ultrasound Institute, Inc.
WEBSITE:https://www.gcus.com/courses/about.asp?course=978/Ultrasound-G
 uided-Regional-Anesthesia
URL:https://www.gcus.com/courses/about.asp?course=978/Ultrasound-Guide
 d-Regional-Anesthesia
CONTACT:800-619-1900
ORGANIZER;CN="Casey Green":https://community.radrounds.com/profile/Jam
 esSalame
ATTACH;FMTTYPE="image/jpeg":
ATTENDEE;ROLE=REQ-PARTICIPANT;PARTSTAT=ACCEPTED;RSVP=TRUE;CN="Casey Gr
 een":https://community.radrounds.com/profile/JamesSalame
END:VEVENT
END:VCALENDAR
