BEGIN:VCALENDAR
PRODID:NingEventWidget-v1
VERSION:2.0
METHOD:PUBLISH
BEGIN:VEVENT
UID:1791588:Event:185531
DTSTAMP:20260423T232047Z
SUMMARY:Ultrasound Guided Nerve Blocks for Emergency Medicine
DESCRIPTION:Ultrasound Guided Nerve Blocks for Emergency Medicine Live
  Training Course is designed for medical professionals seeking to inte
 grate ultrasound-guided nerve block techniques into their emergency or
  critical care practice. These courses are taught at our facility in S
 t. Petersburg, Florida by leading emergency medicine ultrasound expert
 s that specialize in Ultrasound Guided Nerve Blocks for Emergency Medi
 cine that incorporate comprehensive lectures covering upper and lower 
 extremity blocks and interactive case presentations with an Audience R
 esponse System that features a 3:1 faculty to participant hands-on sca
 n ratio with live models and phantoms. All participants will immediate
 ly be able to implement skills learned into clinical practice and see 
 an increase in diagnostic skills and scanning proficiency.\n\nFor more
  information visit https://community.radrounds.com/events/ultrasound-g
 uided-nerve-blocks-for-emergency-medicine
DTSTART:20190405T113000Z
DTEND:20190405T210000Z
CATEGORIES:live, cme, seminar
LOCATION:Gulfcoast Ultrasound Institute
WEBSITE:https://www.gcus.com/
URL:https://www.gcus.com/
CONTACT:727-363-4500
ORGANIZER:Gulfcoast Ultrasound Institute, Inc
ATTACH;FMTTYPE="image/jpeg":https://storage.ning.com/topology/rest/1.0
 /file/get/308234637?profile=original
ATTENDEE;ROLE=REQ-PARTICIPANT;PARTSTAT=ACCEPTED;RSVP=TRUE;CN="Casey Gr
 een":https://community.radrounds.com/profile/JamesSalame
END:VEVENT
END:VCALENDAR
