BEGIN:VCALENDAR
PRODID:NingEventWidget-v1
VERSION:2.0
METHOD:PUBLISH
BEGIN:VEVENT
UID:1791588:Event:116125
DTSTAMP:20260424T004731Z
SUMMARY:UCSF Radiology Spring Training
DESCRIPTION:UCSF Radiology Spring Training Monday, March 12, 2012 - Fr
 iday, March 16, 2012Fairmont Scottsdale Scottsdale, Arizona (AZ), Unit
 ed StatesProvided by UCSF Department of Radiology  CME Provider: UCSF 
 Department of Radiology Postgraduate Education3333 California Street, 
 Suite 375San Francisco, California (CA) 94143-0629United States\nPhone
 : (415) 476-5731Fax: (415) 476-9213\n\nConference Center:Fairmont Scot
 tsdale 7575 East Princess DriveScottsdale, Arizona (AZ) 85255United St
 ates\nToll Free: (866) 540-4495Phone: (480) 585-4848Fax: (480) 585-009
 1\n Description:General review with half-day morning sessions focusing
  on abdominal, neuro, skeletal, pulmonary, ultrasound and intervention
 al imaging.\nSelf Assessment Module (SAM): Yes\nInstructors:UCSF Facul
 ty: Steven Hetts, MD Course-chair (Neuro-interventional); Fergus Coakl
 ey, MD (Abdominal); Christopher Hess, MD, PhD (Neuro); David Sandman, 
 MD (Skeletal); Thomas Urbania, MD (Pulmonary); Roy Fill, MD (ultrasoun
 d).\nSpecialty Audience:Radiology\n\nFor more information visit https:
 //community.radrounds.com/events/ucsf-radiology-spring-training
DTSTART:20120312T040000Z
DTEND:20120317T035900Z
CATEGORIES:radiology
LOCATION:Fairmont Scottsdale
WEBSITE:http://resweb.passkey.com/go/ucsfradgroup
URL:http://resweb.passkey.com/go/ucsfradgroup
CONTACT:(480) 585-4848
ORGANIZER:UCSF Department of Radiology
ATTACH;FMTTYPE="image/jpeg":
ATTENDEE;ROLE=REQ-PARTICIPANT;PARTSTAT=ACCEPTED;RSVP=TRUE;CN="radRound
 s Radiology Events":https://community.radrounds.com/profile/radRoundsR
 adiologyEvents
END:VEVENT
END:VCALENDAR
