BEGIN:VCALENDAR
PRODID:NingEventWidget-v1
VERSION:2.0
METHOD:PUBLISH
BEGIN:VEVENT
UID:1791588:Event:115983
DTSTAMP:20260424T043204Z
SUMMARY:UCSF Radiology Annual Review
DESCRIPTION:UCSF Radiology Annual Review Sunday, March 04, 2012 - Frid
 ay, March 09, 2012Grand Hyatt San Francisco San Francisco, California 
 (CA), United StatesProvided by UCSF Department of Radiology  CME Provi
 der: UCSF Department of Radiology Postgraduate Education3333 Californi
 a Street, Suite 375San Francisco, California (CA) 94143-0629United Sta
 tes\nPhone: (415) 476-5731Fax: (415) 476-9213\n\nConference Center:Gra
 nd Hyatt San Francisco 345 Stockton StreetSan Francisco, California (C
 A) 94108United States\nPhone: (415) 398-1234Fax: (415) 391-1780\n Desc
 ription:Schedule and Topics1. Half-day sessions on the major subspecia
 lties will include didactic lectures and interesting cases review (as 
 abbreviated schedule listed below).2. Registration is Sunday at 11 am.
  The Sunday lecture session is 1-6 pm.3. The following daily sessions 
 begin at 8 am, and end at 6:30 pm. The Friday session ends early at 4 
 pm.4. Lunch is scheduled for 1 hour mid-day, with a 20 minute recess m
 id-morning and mid-afternoon.\nSunday: Registration, Nuc Med.Monday: U
 ltrasound, Breast.Tuesday: Pediatrics, Skeletal.Wednesday: Neuro, Inte
 rventional.Thursday: GI, GU.Friday: Cardiac, Pulmonary.\nSelf Assessme
 nt Module (SAM): No\nInstructors:Course Director: Vickie Feldstein, MD
 .\nSpecialty Audience:Radiology\n\nFor more information visit https://
 community.radrounds.com/events/ucsf-radiology-annual-review
DTSTART:20120304T050000Z
DTEND:20120310T045900Z
CATEGORIES:radiology
LOCATION:Grand Hyatt San Francisco
WEBSITE:https://resweb.passkey.com/go/UCSFReview2012
URL:https://resweb.passkey.com/go/UCSFReview2012
CONTACT:(415) 398-1234
ORGANIZER:UCSF Department of Radiology
ATTACH;FMTTYPE="image/jpeg":
ATTENDEE;ROLE=REQ-PARTICIPANT;PARTSTAT=ACCEPTED;RSVP=TRUE;CN="radRound
 s Radiology Events":https://community.radrounds.com/profile/radRoundsR
 adiologyEvents
END:VEVENT
END:VCALENDAR
