BEGIN:VCALENDAR
PRODID:NingEventWidget-v1
VERSION:2.0
METHOD:PUBLISH
BEGIN:VEVENT
UID:1791588:Event:115691
DTSTAMP:20260424T182630Z
SUMMARY:UCSF Neuro & Musculoskeletal Imaging
DESCRIPTION:UCSF Neuro & Musculoskeletal Imaging Sunday, February 19, 
 2012 - Friday, February 24, 2012Fairmont Orchid Kohala Coast, Hawaii (
 HI), United StatesProvided by UCSF Department of Radiology  CME Provid
 er: UCSF Department of Radiology Postgraduate Education3333 California
  Street, Suite 375San Francisco, California (CA) 94143-0629United Stat
 es\nPhone: (415) 476-5731Fax: (415) 476-9213\n\nConference Center:Fair
 mont Orchid 1 North Kaniku DriveKohala Coast, Hawaii (HI) 96743United 
 States\nToll Free: 800-845-9905Phone: 808-885-2000\n Description:At th
 e completion of this course, the attendee should be able to:1. Apply a
 cquired knowledge in recent advances in CT and MRI techniques to impro
 ve imaging protocols in clinical practice for Neuro and Musculoskeleta
 l imaging;2. Recognize specifi c imaging features to identify and diag
 nose subtle and traumatic neurological conditions including: seizure f
 ocus, brain tumors and their mimics, CNS infections, and spinal cord l
 esions and injuries;3. Improve patient safety by appropriately reducin
 g dosage in diagnostic CT imaging;4. Use MR spectroscopic method as a 
 problem solving tool in differentiating various brain masses;5. Recogn
 ize normal anatomy and pathology related to MRI of the major musculosk
 eletal joints;6. Differentiate normal and abnormal bone marrow process
 es on MRI;7. Correctly characterize and stage bone and soft tissue tum
 ors using MRI.\nSelf Assessment Module (SAM): Yes\nInstructors:UCSF Fa
 culty - Neuro: Soonme Cha, MD; Pratik Mukherjee, MD, PhD; Esther Yuh, 
 MD, PhD. UCSF Faculty - Skeletal: Thomas Link, MD, PhD; Lynne Steinbac
 h, MD. Guest Faculty - Skeletal: Laura Bancroft, MD.\nSpecialty Audien
 ce:Radiology\n\nFor more information visit https://community.radrounds
 .com/events/ucsf-neuro-musculoskeletal-imaging
DTSTART:20120219T050000Z
DTEND:20120225T045900Z
CATEGORIES:radiology
LOCATION:Fairmont Orchid
WEBSITE:http://www.fairmont.com/orchid
URL:http://www.fairmont.com/orchid
CONTACT:808-885-2000
ORGANIZER:UCSF Department of Radiology
ATTACH;FMTTYPE="image/jpeg":
ATTENDEE;ROLE=REQ-PARTICIPANT;PARTSTAT=ACCEPTED;RSVP=TRUE;CN="radRound
 s Radiology Events":https://community.radrounds.com/profile/radRoundsR
 adiologyEvents
END:VEVENT
END:VCALENDAR
