BEGIN:VCALENDAR
PRODID:NingEventWidget-v1
VERSION:2.0
METHOD:PUBLISH
BEGIN:VEVENT
UID:1791588:Event:116526
DTSTAMP:20260422T204016Z
SUMMARY:UCSF Diagnostic Imaging at Yosemite
DESCRIPTION:UCSF Diagnostic Imaging at Yosemite Sunday, May 20, 2012 -
  Friday, May 25, 2012Tenaya Lodge at Yosemite Fish Camp, California (C
 A), United StatesProvided by UCSF Department of Radiology  CME Provide
 r: UCSF Department of Radiology Postgraduate Education3333 California 
 Street, Suite 375San Francisco, California (CA) 94143-0629United State
 s\nPhone: 415-476-5731Fax: 415-476-9213\n\nConference Center:Tenaya Lo
 dge at Yosemite 1122 Highway 41Fish Camp, California (CA) 93623United 
 States\nToll Free: 800-635-5807Phone: 559-683-6555\n Description:Gener
 al Imaging Review, multiple subspecialties as indicated with correspon
 ding speakers below. SAM in Neuroimaging.\nSelf Assessment Module (SAM
 ): Yes\nInstructors:UCSF Course Directors: Nicholas Fidelman, MD (inte
 rventional); Karen Ordovas, MD (cardiac). UCSF Faculty: Peter Callen, 
 MD (ultrasound; Brett Elicker, MD (pulmonary); Antonio Westphalen, MD 
 (abdominal); Emma Webb, MD (abdominal); Esther Yuh, MD, PhD (neuro); M
 iguel Pampaloni, MD, PhD (nuc med).\nSpecialty Audience:Radiology\n\nF
 or more information visit https://community.radrounds.com/events/ucsf-
 diagnostic-imaging-at-yosemite
DTSTART:20120520T040000Z
DTEND:20120526T035900Z
CATEGORIES:radiology
LOCATION:Tenaya Lodge at Yosemite
WEBSITE:http://www.tenayalodge.com/
URL:http://www.tenayalodge.com/
CONTACT:559-683-6555
ORGANIZER:http://www.tenayalodge.com/
ATTACH;FMTTYPE="image/jpeg":
ATTENDEE;ROLE=REQ-PARTICIPANT;PARTSTAT=ACCEPTED;RSVP=TRUE;CN="radRound
 s Radiology Events":https://community.radrounds.com/profile/radRoundsR
 adiologyEvents
END:VEVENT
END:VCALENDAR
