BEGIN:VCALENDAR
PRODID:NingEventWidget-v1
VERSION:2.0
METHOD:PUBLISH
BEGIN:VEVENT
UID:1791588:Event:116211
DTSTAMP:20260423T204138Z
SUMMARY:UCSF Breast Imaging Update
DESCRIPTION:UCSF Breast Imaging Update Friday, March 23, 2012 - Sunday
 , March 25, 2012The Westin San Francisco Market Street San Francisco, 
 California (CA), United StatesProvided by UCSF Department of Radiology
   CME Provider: UCSF Department of Radiology Postgraduate Education333
 3 California Street, Suite 375San Francisco, California (CA) 94143-062
 9United States\nPhone: (415) 476-5731Fax: (415) 476-9213\n\nConference
  Center:The Westin San Francisco Market Street 50 Third StreetSan Fran
 cisco, California (CA) 94103United States\nToll Free: (888) 627-8561Ph
 one: (415) 974-6400\nDescription:At the completion of this course, the
  attendee should be able to:\n1. Compare the considerations applicable
  to screening with different breast imaging techniques, including mamm
 ography, ultrasound, CT and MRI;\n2. Describe and apply the rationale 
 and expected outcomes for imaging surveillance of probably benign lesi
 ons of the breast;\n3. Understand and apply the appropriate use of BI-
 RADS and become more familiar with recent updates;\n4. Implement metho
 ds to reduce the number of false-negative and false-positive mammograp
 hy interpretations;\n5. Assist in diagnostic work-ups using interventi
 onal breast imaging procedures, including percutaneous sampling of non
 palpable lesions;\n6. Recognize the indications, strengths and weaknes
 ses of current breast magnetic resonance imaging (MRI) techniques.\nSe
 lf Assessment Module (SAM): Yes\nInstructors:UCSF Faculty: Bonnie Joe,
  MD; Edward Sickles, MD; Lori Strachowski, MD; Belinda Chang, MD; Doro
 ta Wisner, MD, PhD; Elissa Price, MD; Nola Hylton, PhD.\nGuest Faculty
 : Debra Monticciolo, MD.\nSpecialty Audience:Radiology\n\nFor more inf
 ormation visit https://community.radrounds.com/events/ucsf-breast-imag
 ing-update-1
DTSTART:20120323T040000Z
DTEND:20120326T035900Z
CATEGORIES:radiology
LOCATION:The Westin San Francisco Market Street
WEBSITE:http://www.starwoodmeeting.com/book/UCSFrad032012
URL:http://www.starwoodmeeting.com/book/UCSFrad032012
CONTACT:(888) 627-8561
ORGANIZER:UCSF Department of Radiology
ATTACH;FMTTYPE="image/jpeg":
ATTENDEE;ROLE=REQ-PARTICIPANT;PARTSTAT=ACCEPTED;RSVP=TRUE;CN="radRound
 s Radiology Events":https://community.radrounds.com/profile/radRoundsR
 adiologyEvents
END:VEVENT
END:VCALENDAR
