BEGIN:VCALENDAR
PRODID:NingEventWidget-v1
VERSION:2.0
METHOD:PUBLISH
BEGIN:VEVENT
UID:1791588:Event:115579
DTSTAMP:20260425T100714Z
SUMMARY:UCSF Body Imaging: Hot Topics in the Tropics
DESCRIPTION:UCSF Body Imaging: Hot Topics in the Tropics Sunday, Janua
 ry 15, 2012 - Friday, January 20, 2012Fairmont Orchid Kohala Coast, Ha
 waii (HI), United StatesProvided by UCSF Department of Radiology  CME 
 Provider: UCSF Department of Radiology Postgraduate Education3333 Cali
 fornia Street, Suite 375San Francisco, California (CA) 94143-0629Unite
 d States\nPhone: (415) 476-5731Fax: (415) 476-9213 Conference Center:F
 airmont Orchid 1 North Kaniku DriveKohala Coast, Hawaii (HI) 96743Unit
 ed States\nToll Free: 800-845-9905Phone: 808-885-2000\nDescription:Upo
 n completion of this course, the attendee should be able to:1. Review 
 the imaging technique, fi ndings and management of lung nodules and in
 fections;2. Improve imaging evaluation of lesions of the pancreas, sma
 ll bowel, and kidneys;3. Enhance knowledge of work-up of typical and a
 typical abdominal disease on CT and MR;4. Review best practices for fe
 tal imaging;5. Enhance knowledge of advanced techniques such as PET/CT
 , CTColonography, and cardiac CT;6. Reduce radiation exposure and adve
 rse reactions to contrast agents for their patients.\nSelf Assessment 
 Module (SAM): Yes\nInstructors:UCSF Faculty: Judy Yee, MD (abdominal);
  Peter Callen, MD (ultrasound); Brett Elicker, MD (cardiac); Carina Ma
 ri Aparici (PET/ nuc med); Jane Wang, MD (abdominal); Richard Webb (pu
 lmonary)\nSpecialty Audience:Radiology\n\nFor more information visit h
 ttps://community.radrounds.com/events/ucsf-body-imaging-hot-topics-in-
 the-tropics
DTSTART:20120116T050000Z
DTEND:20120121T045900Z
CATEGORIES:radiology, conference
LOCATION:Fairmont Orchid
WEBSITE:
URL:
CONTACT:808-885-2000
ORGANIZER:UCSF Department of Radiology
ATTACH;FMTTYPE="image/jpeg":
ATTENDEE;ROLE=REQ-PARTICIPANT;PARTSTAT=ACCEPTED;RSVP=TRUE;CN="radRound
 s Radiology Events":https://community.radrounds.com/profile/radRoundsR
 adiologyEvents
END:VEVENT
END:VCALENDAR
