BEGIN:VCALENDAR
PRODID:NingEventWidget-v1
VERSION:2.0
METHOD:PUBLISH
BEGIN:VEVENT
UID:1791588:Event:160780
DTSTAMP:20260420T093027Z
SUMMARY:Two-Day All Specialties - Scan Only Workshop
DESCRIPTION:The Ultrasound scanning skills workshop is a customized, c
 omprehensive, all day scanning only workshop. This program provides th
 e perfect clinical complement for medical professionals who have alrea
 dy attended one of the many online GCUS courses or sonographer profess
 ionals already scanning, but have the desire to now move to a more adv
 anced level of scanning.Scanning alongside the masters of sonography, 
 our clinical faculty will utilize their extensive clinical knowledge a
 nd expertise to guide you through standardized examination protocols t
 hat are based on published guidelines.The hands-on program covers all 
 specialties for all levels of experience. Choose up to two areas to fo
 cus on per day for a total of four specialties during the two-day work
 shop. You may also only choose one or two specialties in order to spen
 d your time on an area that you need the most. The hands-on workshop 
 offers 3:1 hands-on training featuring live models plus, inanimate pha
 ntoms for a realistic training experience. The scanning skills program
  offers two-full days of scanning only. There are no lectures, just wa
 lk-in and start scanning!\n\nFor more information visit https://commun
 ity.radrounds.com/events/two-day-all-specialties-scan-only-workshop-1
DTSTART:20150825T040000Z
DTEND:20150827T035900Z
CATEGORIES:ultrasound, cme, seminar
LOCATION:Gulfcoast Ultrasound Institute, Inc.
WEBSITE:https://www.gcus.com/courses/about.asp?course=902/Two-Day-All-
 Specialties-Scan-Only-Workshop
URL:https://www.gcus.com/courses/about.asp?course=902/Two-Day-All-Spec
 ialties-Scan-Only-Workshop
CONTACT:800.619.1900
ORGANIZER;CN="Casey Green":https://community.radrounds.com/profile/Jam
 esSalame
ATTACH;FMTTYPE="image/jpeg":
ATTENDEE;ROLE=REQ-PARTICIPANT;PARTSTAT=ACCEPTED;RSVP=TRUE;CN="Casey Gr
 een":https://community.radrounds.com/profile/JamesSalame
END:VEVENT
END:VCALENDAR
