BEGIN:VCALENDAR
PRODID:NingEventWidget-v1
VERSION:2.0
METHOD:PUBLISH
BEGIN:VEVENT
UID:1791588:Event:190921
DTSTAMP:20260421T174645Z
SUMMARY:Trauma Do's and Don'ts (Live Webinar)
DESCRIPTION:Course Topics\n\nWhat is Emergency Medicine?\nTypes of Tra
 uma Centers\nWhat an RT Should Know About Trauma\nPositioning and Expo
 sure “On the Fly”\nImaging Technique Considerations\nTrauma Patien
 ts\nTriage\nSkeletal Trauma\nSkull and Facial Bones\nChest Trauma\nAbd
 ominal Trauma\nPediatric Trauma\nGeriatric Trauma\n\n\nFor more inform
 ation visit https://community.radrounds.com/events/trauma-do-s-and-don
 -ts-live-webinar-9
DTSTART:20190627T130000Z
DTEND:20190627T150000Z
CATEGORIES:live, webinar
LOCATION:Advanced Health Education Center
WEBSITE:https://store.aheconline.com
URL:https://store.aheconline.com
CONTACT:1(800)-239-1361
ORGANIZER:AHEC
ATTACH;FMTTYPE="image/jpeg":
ATTENDEE;ROLE=REQ-PARTICIPANT;PARTSTAT=ACCEPTED;RSVP=TRUE;CN="Larry Ca
 rney":https://community.radrounds.com/profile/LarryCarney
END:VEVENT
END:VCALENDAR
