BEGIN:VCALENDAR
PRODID:NingEventWidget-v1
VERSION:2.0
METHOD:PUBLISH
BEGIN:VEVENT
UID:1791588:Event:183911
DTSTAMP:20260421T060728Z
SUMMARY:Trauma Do's and Don'ts (Live Webinar)
DESCRIPTION:Course Topics\n\nWhat is Emergency Medicine?\nTypes of Tra
 uma Centers\nWhat an RT Should Know About Trauma\nPositioning and Expo
 sure “On the Fly”\nImaging Technique Considerations\nTrauma Patien
 ts\nTriage\nSkeletal Trauma\nSkull and Facial Bones\nChest Trauma\nAbd
 ominal Trauma\nPediatric Trauma\nGeriatric Trauma\n\n\nFor more inform
 ation visit https://community.radrounds.com/events/trauma-do-s-and-don
 -ts-live-webinar-5
DTSTART:20180924T130000Z
DTEND:20180924T150000Z
CATEGORIES:live, webinar
LOCATION:Advanced Health Education Center
WEBSITE:https://store.aheconline.com/
URL:https://store.aheconline.com/
CONTACT:800-239-1361
ORGANIZER;CN="Larry Carney":https://community.radrounds.com/profile/La
 rryCarney
ATTACH;FMTTYPE="image/jpeg":
ATTENDEE;ROLE=REQ-PARTICIPANT;PARTSTAT=ACCEPTED;RSVP=TRUE;CN="Larry Ca
 rney":https://community.radrounds.com/profile/LarryCarney
END:VEVENT
END:VCALENDAR
