BEGIN:VCALENDAR
PRODID:NingEventWidget-v1
VERSION:2.0
METHOD:PUBLISH
BEGIN:VEVENT
UID:1791588:Event:167541
DTSTAMP:20260421T060736Z
SUMMARY:Trauma Do's and Don'ts [6:30pm CST]
DESCRIPTION:Course Topics\n\nWhat is Emergency Medicine?\nTypes of Tra
 uma Centers\nWhat an RT Should Know About Trauma\nPositioning and Expo
 sure “On the Fly”\nImaging Technique Considerations\nTrauma Patien
 ts\nTriage\nSkeletal Trauma\nSkull and Facial Bones\nChest Trauma\nAbd
 ominal Trauma\nPediatric Trauma\nGeriatric Trauma\n\nStart Time Based 
 on Time Zone:\n\n7:30PM Eastern\n6:30PM Central\n5:30PM Mountain\n4:30
 PM Pacific\n3:30PM Alaska\n2:30PM Hawaii\n\n\nFor more information vis
 it https://community.radrounds.com/events/trauma-do-s-and-don-ts-6-30p
 m-cst
DTSTART:20160609T223000Z
DTEND:20160610T001500Z
CATEGORIES:webinar
LOCATION:Houston
WEBSITE:https://store.aheconline.com/index.php?route=product/product&p
 ath=59_167&product_id=2431
URL:https://store.aheconline.com/index.php?route=product/product&path=
 59_167&product_id=2431
CONTACT:1-800-239-1361
ORGANIZER;CN="Larry Carney":https://community.radrounds.com/profile/La
 rryCarney
ATTACH;FMTTYPE="image/jpeg":
ATTENDEE;ROLE=REQ-PARTICIPANT;PARTSTAT=ACCEPTED;RSVP=TRUE;CN="Larry Ca
 rney":https://community.radrounds.com/profile/LarryCarney
END:VEVENT
END:VCALENDAR
